{"text_format":"3","workbook":"xlsx","n_sheets":2,"sheets":["地市名称","汇总表"],"read":"whole","date_system":"1900"}

{"sheet":"地市名称","index":0,"n_rows":194,"n_cols":7,"rows_kept":194,"merged":[[0,0,0,6],[7,0,8,0],[7,1,8,1],[7,2,7,3],[16,0,17,0],[16,1,17,1],[16,2,16,3],[45,0,46,0],[45,1,46,1],[45,2,45,3],[67,0,68,0],[67,1,68,1],[67,2,67,6],[81,0,82,0],[81,1,82,1],[81,2,82,2],[81,3,81,6],[106,0,107,0],[106,1,107,1],[106,2,107,2],[106,3,106,6],[131,0,132,0],[131,1,132,1],[131,2,131,3],[147,0,148,0],[147,1,148,1],[147,2,147,6],[156,0,157,0],[156,1,157,1],[156,2,156,6],[167,0,168,0],[167,1,168,1],[167,2,167,6],[180,0,181,0],[180,1,181,1],[180,2,180,6]]}
["阳江市2022年第四季度人力资源市场供求分析汇总"]
[]
["项  目","代码","需求人数","求职人数","求人倍率"]
["甲","乙",1,2,3]
["本期有效数",1,{"$f":"C11","v":4557},{"$f":"E71","v":4974},{"$f":"IFERROR(C5/D5,0)","v":{"v":0.916164053075995,"d":"0.92"}}]
[]
["续表一. "]
["项  目","代码","按产业分组的需求人数"]
[null,null,"需求人数","所占比重（%）"]
["甲","乙",4,5]
["合计",2,{"$f":"C12+C13+C14","v":4557},{"$f":"SUM(D12:D14)","v":{"v":1,"d":"100.00%"}}]
["第一产业",3,{"$f":"C21-C22","v":5},{"$f":"IFERROR(C12/$C$11,0)","v":{"v":0.0010972130787799,"d":"0.11%"}}]
["第二产业",4,{"$f":"C23-C24+C25-C26+C27+C28","v":2187},{"$f":"IFERROR(C13/$C$11,0)","v":{"v":0.479921000658328,"d":"47.99%"}}]
["第三产业",5,{"$f":"C22+C24+C26+C29+C30+C31+C32+C33+C34+C35+C36+C37+C38+C39+C40+C41+C42+C43","v":2365},{"$f":"IFERROR(C14/$C$11,0)","v":{"v":0.518981786262892,"d":"51.90%"}}]
[]
["续表二"]
["项  目","代码","按行业分组的需求人数"]
[null,null,"需求人数","所占比重（%）"]
["甲","乙",6,7]
["合计",6,{"$f":"SUM(C21:C43)-C22-C24-C26","v":4557},{"$f":"SUM(D21:D43)-D26-D24-D22","v":{"v":1,"d":"100.00%"}}]
["农、林、牧、渔业",7,5,{"$f":"IFERROR(C21/$C$11,0)","v":{"v":0.0010972130787799,"d":"0.11%"}}]
["    其中，农、林、牧、渔专业及辅助性活动",8,0,{"$f":"IFERROR(C22/$C$11,0)","v":{"v":0,"d":"0.00%"}}]
["采矿业",9,0,{"v":0,"d":"0.00%"}]
["    其中，开采专业及辅助性活动",10,0,{"v":0,"d":"0.00%"}]
["制造业",11,2568,{"v":0.563528637261356,"d":"56.35%"}]
["    其中，金属制品、机械和设备修理业",12,498,{"v":0.109282422646478,"d":"10.93%"}]
["电力、热力、燃气及水生产和供应业",13,79,{"v":0.0173359666447224,"d":"1.73%"}]
["建筑业",14,38,{"v":0.00833881939872723,"d":"0.83%"}]
["批发和零售业",15,68,{"v":0.0149220978714066,"d":"1.49%"}]
["交通运输、仓储和邮政业",16,43,{"v":0.00943603247750713,"d":"0.94%"}]
["住宿和餐饮业",17,1171,{"v":0.256967303050252,"d":"25.70%"}]
["信息传输、软件和信息技术服务业",18,238,{"v":0.0522273425499232,"d":"5.22%"}]
["金融业",19,29,{"v":0.00636383585692341,"d":"0.64%"}]
["房地产业",20,148,{"v":0.032477507131885,"d":"3.25%"}]
["租赁和商务服务业",21,32,{"v":0.00702216370419135,"d":"0.70%"}]
["科学研究和技术服务业",22,0,{"v":0,"d":"0.00%"}]
["水利、环境和公共设施管理业",23,0,{"v":0,"d":"0.00%"}]
["居民服务、修理和其他服务业",24,74,{"v":0.0162387535659425,"d":"1.62%"}]
["教育",25,37,{"v":0.00811937678297125,"d":"0.81%"}]
["卫生和社会工作",26,0,{"v":0,"d":"0.00%"}]
["文化、体育和娱乐业",27,27,{"v":0.00592495062541146,"d":"0.59%"}]
["公共管理、社会保障和社会组织",28,0,{"v":0,"d":"0.00%"}]
["国际组织",29,0,{"v":0,"d":"0.00%"}]
[]
["续表三"]
["项  目","代码","按用人单位性质分组的需求人数"]
[null,null,"需求人数","所占比重（%）"]
["甲","乙",8,9]
["合  计",30,{"$f":"C50+C63+C64+C65","v":4557},{"$f":"D50+D63+D64+D65","v":{"v":1,"d":"100.00%"}}]
["企  业",31,{"$f":"C51+C60+C61+C62","v":4557},{"$f":"IFERROR(C50/$C$11,0)","v":{"v":1,"d":"100.00%"}}]
[" 内资企业",32,{"$f":"C52+C53+C54+C55+C56+C57+C58+C59","v":3163},{"$f":"IFERROR(C51/$C$11,0)","v":{"v":0.694096993636164,"d":"69.41%"}}]
["  国有企业",33,10,{"v":0.0021944261575598,"d":"0.22%"}]
["  集体企业",34,0,{"v":0,"d":"0.00%"}]
["  股份合作企业",35,10,{"v":0.0021944261575598,"d":"0.22%"}]
["  联营企业",36,5,{"v":0.0010972130787799,"d":"0.11%"}]
["  有限责任公司",37,2058,{"v":0.451612903225806,"d":"45.16%"}]
["  股份有限公司",38,365,{"v":0.0800965547509326,"d":"8.01%"}]
["  私营企业",39,699,{"v":0.15339038841343,"d":"15.34%"}]
["  其他企业",40,16,{"v":0.00351108185209568,"d":"0.35%"}]
["  港、澳、台商投资企业",41,59,{"v":0.0129471143296028,"d":"1.29%"}]
["  外商投资企业",42,16,{"v":0.00351108185209568,"d":"0.35%"}]
["  个体经营",43,1319,{"v":0.289444810182137,"d":"28.94%"}]
["  事  业",44,0,{"v":0,"d":"0.00%"}]
["  机  关",45,0,{"v":0,"d":"0.00%"}]
["  其  他",46,0,{"v":0,"d":"0.00%"}]
[]
["续表四"]
["项  目","代码","按职业分组的供求人数（职业大类）"]
[null,null,"需求人数","所占比重（%）","求职人数","所占比重（%）","求人倍率"]
["甲","乙",10,11,12,13,14]
["合计",47,{"$f":"SUM(C72:C78)","v":4557},{"$f":"SUM(D72:D78)","v":{"v":1,"d":"100.00%"}},{"$f":"SUM(E72:E79)","v":4974},{"$f":"SUM(F72:F79)","v":{"v":1,"d":"100.00%"}},{"$f":"IFERROR(C71/E71,0)","v":{"v":0.916164053075995,"d":"0.92"}}]
["单位负责人",48,95,{"$f":"IFERROR(C72/$C$11,0)","v":{"v":0.0208470484968181,"d":"2.08%"}},14,{"$f":"IFERROR(E72/$E$71,0)","v":{"v":0.00281463610776035,"d":"0.28%"}},{"$f":"IFERROR(C72/(E72+$E$79*F72),0)","v":{"v":6.78571428571429,"d":"6.79"}}]
["专业技术人员",49,402,{"$f":"IFERROR(C73/$C$11,0)","v":{"v":0.0882159315339039,"d":"8.82%"}},508,{"$f":"IFERROR(E73/$E$71,0)","v":{"v":0.102131081624447,"d":"10.21%"}},{"$f":"IFERROR(C73/(E73+$E$79*F73),0)","v":{"v":0.791338582677165,"d":"0.79"}}]
["办事人员和有关人员",50,1116,{"v":0.244897959183673,"d":"24.49%"},1545,{"v":0.310615199034982,"d":"31.06%"},{"v":0.722330097087379,"d":"0.72"}]
["社会生产服务和生活服务人员",51,1045,{"v":0.229317533464999,"d":"22.93%"},1154,{"v":0.232006433453961,"d":"23.20%"},{"v":0.905545927209705,"d":"0.91"}]
["农林牧渔业生产及辅助人员",52,1,{"v":0.00021944261575598,"d":"0.02%"},2,{"v":0.000402090872537193,"d":"0.04%"},{"v":0.5,"d":"0.50"}]
["生产制造及有关人员",53,1008,{"v":0.221198156682028,"d":"22.12%"},1003,{"v":0.201648572577402,"d":"20.16%"},{"v":1.0049850448654,"d":"1.00"}]
["其他",54,890,{"v":0.195303928022822,"d":"19.53%"},748,{"v":0.15038198632891,"d":"15.04%"},{"v":1.18983957219251,"d":"1.19"}]
["无要求",55,"-","-",null,{"v":0,"d":"0.00%"},"-"]
[]
["续表五"]
["项  目","代码","职业代码","需求大于求职缺口最大的前二十个职业（职业细类）"]
[{"$nulls":3},"需求人数","求职人数","缺口数","求人倍率"]
["甲","乙",15,16,17,18,19]
["普工",56,6279800,1264,632,{"$f":"D85-E85","v":632},{"$f":"IFERROR(D85/E85,0)","v":{"v":2,"d":"2.00"}}]
["业务员",57,4010299,275,137,{"$f":"D86-E86","v":138},{"$f":"IFERROR(D86/E86,0)","v":{"v":2.00729927007299,"d":"2.01"}}]
["营业员",58,4010100,31,1513,-1482,{"v":0.0204890945142102,"d":"0.02"}]
["质检员",59,6262100,26,21,5,{"v":1.23809523809524,"d":"1.24"}]
["仓管员",60,4020199,21,17,4,{"v":1.23529411764706,"d":"1.24"}]
[null,61,{"$nulls":3},0,{"v":0,"d":"0.00"}]
[null,62,{"$nulls":3},0,{"v":0,"d":"0.00"}]
[null,63,{"$nulls":3},0,{"v":0,"d":"0.00"}]
[null,64,{"$nulls":3},{"$f":"D93-E93","v":0},{"$f":"IFERROR(D93/E93,0)","v":{"v":0,"d":"0.00"}}]
[null,65,{"$nulls":3},0,{"v":0,"d":"0.00"}]
[null,66,{"$nulls":3},0,{"v":0,"d":"0.00"}]
[null,67,{"$nulls":3},0,{"v":0,"d":"0.00"}]
[null,68,{"$nulls":3},0,{"v":0,"d":"0.00"}]
[null,69,{"$nulls":3},0,{"v":0,"d":"0.00"}]
[null,70,{"$nulls":3},0,{"v":0,"d":"0.00"}]
[null,71,{"$nulls":3},0,{"v":0,"d":"0.00"}]
[null,72,{"$nulls":3},0,{"v":0,"d":"0.00"}]
[null,73,{"$nulls":3},0,{"v":0,"d":"0.00"}]
[null,74,{"$nulls":3},0,{"v":0,"d":"0.00"}]
[null,75,{"$nulls":3},0,{"v":0,"d":"0.00"}]
[]
["续表六"]
["项  目","代码","职业代码","需求小于求职缺口最大的前二十个职业（职业细类）"]
[{"$nulls":3},"需求人数","求职人数","缺口数","求人倍率"]
["甲","乙",20,21,22,23,24]
["文 员 ",76,3010200,159,318,{"$f":"D110-E110","v":-159},{"$f":"IFERROR(D110/E110,0)","v":{"v":0.5,"d":"0.50"}}]
["会计",77,2060300,201,402,{"$f":"D111-E111","v":-201},{"$f":"IFERROR(D111/E111,0)","v":{"v":0.5,"d":"0.50"}}]
["驾驶员",78,6240100,47,94,-47,{"v":0.5,"d":"0.50"}]
["跟单员",79,3010199,42,55,-13,{"v":0.763636363636364,"d":"0.76"}]
["电工",80,6240100,37,46,-9,{"v":0.804347826086957,"d":"0.80"}]
[null,81,{"$nulls":3},0,{"v":0,"d":"0.00"}]
[null,82,{"$nulls":3},0,{"v":0,"d":"0.00"}]
[null,83,{"$nulls":3},0,{"v":0,"d":"0.00"}]
[null,84,{"$nulls":3},0,{"v":0,"d":"0.00"}]
[null,85,{"$nulls":3},{"$f":"D119-E119","v":0},{"$f":"IFERROR(D119/E119,0)","v":{"v":0,"d":"0.00"}}]
[null,86,{"$nulls":3},0,{"v":0,"d":"0.00"}]
[null,87,{"$nulls":3},0,{"v":0,"d":"0.00"}]
[null,88,{"$nulls":3},0,{"v":0,"d":"0.00"}]
[null,89,{"$nulls":3},0,{"v":0,"d":"0.00"}]
[null,90,{"$nulls":3},0,{"v":0,"d":"0.00"}]
[null,91,{"$nulls":3},0,{"v":0,"d":"0.00"}]
[null,92,{"$nulls":3},0,{"v":0,"d":"0.00"}]
[null,93,{"$nulls":3},0,{"v":0,"d":"0.00"}]
[null,94,{"$nulls":3},0,{"v":0,"d":"0.00"}]
[null,95,{"$nulls":3},0,{"v":0,"d":"0.00"}]
[]
["续表七"]
["项  目","代码","按求职人员类别分组的求职人数"]
[null,null,"求职人数","所占比重（%）"]
["甲","乙",25,26]
["合计",96,{"$f":"SUM(C136:C143)-C137","v":4974},{"$f":"SUM(D136:D143)-D137","v":{"v":1,"d":"100.00%"}}]
["新成长失业青年",97,987,{"$f":"IFERROR(C136/$C$135,0)","v":{"v":0.198431845597105,"d":"19.84%"}}]
["  其中：应届高校毕业生",98,151,{"v":0.0303578608765581,"d":"3.04%"}]
["失业人员",99,266,{"v":0.0534780860474467,"d":"5.35%"}]
["在业人员",100,625,{"v":0.125653397667873,"d":"12.57%"}]
["退休人员",101,637,{"v":0.128065942903096,"d":"12.81%"}]
["在学人员",102,745,{"v":0.149778850020105,"d":"14.98%"}]
["本市农村求职人员",103,1673,{"v":0.336349014877362,"d":"33.63%"}]
["外地户籍求职人员",104,41,{"v":0.00824286288701247,"d":"0.82%"}]
[]
[]
[]
["续表八"]
["项  目","代码","劳动力供求人数比较（按性别分组）"]
[null,null,"需求人数","所占比重（%）","求职人数","所占比重（%）","求人倍率"]
["甲","乙",27,28,29,30,31]
["合计",105,"--","--",{"$f":"SUM(E152:E153)","v":4974},{"$f":"SUM(F152:F153)","v":{"v":1,"d":"100.00%"}},"--"]
["男",106,"--","--",2978,{"$f":"IFERROR(E152/$E$151,0)","v":{"v":0.598713309207881,"d":"59.87%"}},"--"]
["女",107,"--","--",1996,{"$f":"IFERROR(E153/$E$151,0)","v":{"v":0.401286690792119,"d":"40.13%"}},"--"]
["无要求",108,"--","--","--","--","--"]
[]
["续表九"]
["项  目","代码","劳动力供求人数比较（按年龄分组）"]
[null,null,"需求人数","需求比重（%）","求职人数","求职比重（%）","求人倍率"]
["甲","乙",32,33,34,35,36]
["合计",109,{"$f":"SUM(C161:C165)","v":4557},{"$f":"SUM(D161:D165)","v":{"v":1,"d":"100.00%"}},{"$f":"SUM(E161:E164)","v":4974},{"$f":"SUM(F161:F164)","v":{"v":1,"d":"100.00%"}},{"$f":"IF(E160=0,0,C160/E160)","v":{"v":0.916164053075995,"d":"0.92"}}]
["16-24岁",110,1404,{"$f":"IFERROR(C161/$C$184,0)","v":{"v":0.308097432521396,"d":"30.81%"}},1787,{"$f":"IFERROR(E161/$E$160,0)","v":{"v":0.359268194611982,"d":"35.93%"}},{"$f":"IFERROR((C161+$C$165*F161)/E161,0)","v":{"v":0.93384480102352,"d":"0.93"}}]
["25-34岁",111,1224,{"$f":"IFERROR(C162/$C$184,0)","v":{"v":0.268597761685319,"d":"26.86%"}},1495,{"$f":"IFERROR(E162/$E$160,0)","v":{"v":0.300562927221552,"d":"30.06%"}},{"$f":"IFERROR((C162+$C$165*F162)/E162,0)","v":{"v":0.966899583519922,"d":"0.97"}}]
["35-44岁",112,731,{"$f":"IFERROR(C163/$C$184,0)","v":{"v":0.160412552117621,"d":"16.04%"}},962,{"$f":"IFERROR(E163/$E$160,0)","v":{"v":0.19340570969039,"d":"19.34%"}},{"$f":"IFERROR((C163+$C$165*F163)/E163,0)","v":{"v":0.908045746405216,"d":"0.91"}}]
["45岁以上",113,461,{"$f":"IFERROR(C164/$C$184,0)","v":{"v":0.101163045863507,"d":"10.12%"}},730,{"$f":"IFERROR(E164/$E$160,0)","v":{"v":0.146763168476076,"d":"14.68%"}},{"$f":"IFERROR((C164+$C$165*F164)/E164,0)","v":{"v":0.779677335845024,"d":"0.78"}}]
["无要求",114,737,{"$f":"IFERROR(C165/$C$184,0)","v":{"v":0.161729207812157,"d":"16.17%"}},"--","--","--"]
[]
["续表十"]
["项  目","代码","劳动力供求人数比较（按文化程度分组）"]
[null,null,"需求人数","需求比重（%）","求职人数","求职比重（%）","求人倍率"]
["甲","乙",37,38,39,40,41]
["合计",115,{"$f":"SUM(C172:C178)-C174","v":4557},{"$f":"SUM(D172:D178)-D174","v":{"v":1,"d":"100.00%"}},{"$f":"SUM(E172:E177)-E174","v":4974},{"$f":"SUM(F172:F177)-F174","v":{"v":1,"d":"100.00%"}},{"$f":"IF(E171=0,0,C171/E171)","v":{"v":0.916164053075995,"d":"0.92"}}]
["初中及以下",116,964,{"$f":"IFERROR(C172/$C$184,0)","v":{"v":0.211542681588765,"d":"21.15%"}},1336,{"$f":"IFERROR(E172/$E$171,0)","v":{"v":0.268596702854845,"d":"26.86%"}},{"$f":"IFERROR((C172+$C$178*F172)/E172,0)","v":{"v":0.818460786509009,"d":"0.82"}}]
["高中",117,1494,{"v":0.327847267939434,"d":"32.78%"},1690,{"v":0.339766787293928,"d":"33.98%"},{"v":0.980927568920517,"d":"0.98"}]
["其中：职高、技校、中专",118,987,{"v":0.216589861751152,"d":"21.66%"},983,{"v":0.197627663852031,"d":"19.76%"},{"v":1.10097307627333,"d":"1.10"}]
["大专",119,1293,{"v":0.283739302172482,"d":"28.37%"},1630,{"v":0.327704061117813,"d":"32.77%"},{"v":0.890155434023795,"d":"0.89"}]
["大学",120,302,{"v":0.0662716699583059,"d":"6.63%"},313,{"v":0.0629272215520708,"d":"6.29%"},{"v":1.06176013031341,"d":"1.06"}]
["硕士以上",121,22,{"v":0.00482773754663156,"d":"0.48%"},5,{"v":0.00100522718134298,"d":"0.10%"},{"v":4.49690390028146,"d":"4.50"}]
["无要求",122,482,{"v":0.105771340794382,"d":"10.58%"},"--","--","--"]
[]
["续表十一"]
["项  目","代码","劳动力供求人数比较（按技术等级分组）"]
[null,null,"需求人数","需求比重（%）","求职人数","求职比重（%）","求人倍率"]
["甲","乙",42,43,44,45,46]
["合计",123,{"$f":"SUM(C185:C194)","v":4557},{"$f":"SUM(D185:D194)","v":{"v":1,"d":"100.00%"}},{"$f":"SUM(E185:E193)","v":4974},{"$f":"SUM(F185:F193)","v":{"v":1,"d":"100.00%"}},{"$f":"IF(E184=0,0,C184/E184)","v":{"v":0.916164053075995,"d":"0.92"}}]
["职业资格五级(初级技能)",124,318,{"$f":"IFERROR(C185/$C$184,0)","v":{"v":0.0697827518104016,"d":"6.98%"}},313,{"$f":"IFERROR(E185/$E$171,0)","v":{"v":0.0629272215520708,"d":"6.29%"}},{"$f":"IFERROR((C185+$C$194*F185)/E185,0)","v":{"v":1.76346137294121,"d":"1.76"}}]
["职业资格四级(中级技能)",125,181,{"$f":"IFERROR(C186/$C$184,0)","v":{"v":0.0397191134518323,"d":"3.97%"}},145,{"$f":"IFERROR(E186/$E$171,0)","v":{"v":0.0291515882589465,"d":"2.92%"}},{"$f":"IFERROR((C186+$C$194*F186)/E186,0)","v":{"v":1.99576279411561,"d":"2.00"}}]
["职业资格三级(高级技能)",126,4,{"$f":"IFERROR(C187/$C$184,0)","v":{"v":0.000877770463023919,"d":"0.09%"}},3,{"v":0.00060313630880579,"d":"0.06%"},{"v":2.08082026537998,"d":"2.08"}]
["职业资格二级(技师)",127,2,{"$f":"IFERROR(C188/$C$184,0)","v":{"v":0.00043888523151196,"d":"0.04%"}},1,{"v":0.000201045436268597,"d":"0.02%"},{"v":2.74748693204664,"d":"2.75"}]
["职业资格一级(高级技师)",128,3,{"$f":"IFERROR(C189/$C$184,0)","v":{"v":0.000658327847267939,"d":"0.07%"}},2,{"v":0.000402090872537193,"d":"0.04%"},{"v":2.24748693204664,"d":"2.25"}]
["初级职称",129,321,{"v":0.0704410796576695,"d":"7.04%"},316,{"v":0.0635303578608766,"d":"6.35%"},{"v":1.76330971685677,"d":"1.76"}]
["中级职称",130,8,{"v":0.00175554092604784,"d":"0.18%"},8,{"v":0.00160836349014877,"d":"0.16%"},{"v":1.74748693204664,"d":"1.75"}]
["高级职称",131,2,{"v":0.00043888523151196,"d":"0.04%"},1,{"v":0.000201045436268597,"d":"0.02%"},{"v":2.74748693204664,"d":"2.75"}]
["无技术等级或职称",132,"——","--",4185,{"v":0.841375150784077,"d":"84.14%"},"--"]
["无要求",133,3718,{"$f":"IFERROR(C194/$C$184,0)","v":{"v":0.815887645380733,"d":"81.59%"}},"--","--","--"]

{"sheet":"汇总表","index":1,"n_rows":4,"n_cols":232,"rows_kept":4,"merged":[[0,0,0,2],[0,3,0,5],[0,6,0,28],[0,29,0,44],[0,45,0,58],[0,59,0,118],[0,120,0,139],[0,179,0,186],[0,187,0,191],[0,192,0,200],[0,201,0,213],[0,214,0,231]]}
["供求总体人数",null,null," 按产业分组的需求人数",null,null,"按行业分组的需求人数",{"$nulls":22},"按用人单位性质分组的需求人数",{"$nulls":15},"按职业分组的供求人数",{"$nulls":13},"表6 需求大于求职缺口最大的前二十个职业（职业细类）",{"$nulls":60},"表7 需求小于求职缺口最大的前二十个职业（职业细类）",{"$nulls":58},"表8 按求职人员类别分组的求职人数",{"$nulls":7},"表9 按性别分组的供求人数",{"$nulls":4},"表10 按年龄分组的供求人数",{"$nulls":8},"表11 按文化程度分组的供求人数",{"$nulls":12},"表12 按技术等级分组的供求人数"]
[1,2,3,4,5,6,7,8,9,10,11,12,13,14,15,16,17,18,19,20,21,22,23,24,25,26,27,28,29,30,31,32,33,34,35,36,37,38,39,40,41,42,43,44,45,46,47,48,49,50,51,52,53,54,55,56,57,58,59,60,61,62,63,64,65,66,67,68,69,70,71,72,73,74,75,76,77,78,79,80,81,82,83,84,85,86,87,88,89,90,91,92,93,94,95,96,97,98,99,100,101,102,103,104,105,106,107,108,109,110,111,112,113,114,115,116,117,118,119,120,121,122,123,124,125,126,127,128,129,130,131,132,133,134,135,136,137,138,139,140,141,142,143,144,145,146,147,148,149,150,151,152,153,154,155,156,157,158,159,160,161,162,163,164,165,166,167,168,169,170,171,172,173,174,175,176,177,178,179,180,181,182,183,184,185,186,187,188,189,190,191,192,193,194,195,196,197,198,199,200,201,202,203,204,205,206,207,208,209,210,211,212,213,214,215,216,217,218,219,220,221,222,223,224,225,226,227,228,229,230,231,232]
[{"$f":"地市名称!C3","v":"需求人数"},{"$f":"地市名称!D3","v":"求职人数"},{"$f":"地市名称!E3","v":"求人倍率"},{"$f":"地市名称!A12","v":"第一产业"},{"$f":"地市名称!A13","v":"第二产业"},{"$f":"地市名称!A14","v":"第三产业"},{"$f":"地市名称!A21","v":"农、林、牧、渔业"},"    其中，农、林、牧、渔专业及辅助性活动",{"$f":"地市名称!A23","v":"采矿业"},"    其中，开采专业及辅助性活动",{"$f":"地市名称!A25","v":"制造业"},"    其中，金属制品、机械和设备修理业",{"$f":"地市名称!A27","v":"电力、热力、燃气及水生产和供应业"},{"$f":"地市名称!A28","v":"建筑业"},{"$f":"地市名称!A29","v":"批发和零售业"},{"$f":"地市名称!A30","v":"交通运输、仓储和邮政业"},{"$f":"地市名称!A31","v":"住宿和餐饮业"},{"$f":"地市名称!A32","v":"信息传输、软件和信息技术服务业"},{"$f":"地市名称!A33","v":"金融业"},{"$f":"地市名称!A34","v":"房地产业"},{"$f":"地市名称!A35","v":"租赁和商务服务业"},{"$f":"地市名称!A36","v":"科学研究和技术服务业"},{"$f":"地市名称!A37","v":"水利、环境和公共设施管理业"},{"$f":"地市名称!A38","v":"居民服务、修理和其他服务业"},{"$f":"地市名称!A39","v":"教育"},{"$f":"地市名称!A40","v":"卫生和社会工作"},{"$f":"地市名称!A41","v":"文化、体育和娱乐业"},{"$f":"地市名称!A42","v":"公共管理、社会保障和社会组织"},{"$f":"地市名称!A43","v":"国际组织"},{"$f":"地市名称!A50","v":"企  业"},{"$f":"地市名称!A51","v":" 内资企业"},{"$f":"地市名称!A52","v":"  国有企业"},{"$f":"地市名称!A53","v":"  集体企业"},{"$f":"地市名称!A54","v":"  股份合作企业"},{"$f":"地市名称!A55","v":"  联营企业"},{"$f":"地市名称!A56","v":"  有限责任公司"},{"$f":"地市名称!A57","v":"  股份有限公司"},{"$f":"地市名称!A58","v":"  私营企业"},{"$f":"地市名称!A59","v":"  其他企业"},{"$f":"地市名称!A60","v":"  港、澳、台商投资企业"},{"$f":"地市名称!A61","v":"  外商投资企业"},{"$f":"地市名称!A62","v":"  个体经营"},{"$f":"地市名称!A63","v":"  事  业"},{"$f":"地市名称!A64","v":"  机  关"},{"$f":"地市名称!A65","v":"  其  他"},"单位负责人需求人数","单位负责人求职人数","专业技术人员需求人数","专业技术人员求职人数","办事人员和有关人员需求人数","办事人员和有关人员求职人数","社会生产服务和生活服务人员需求人数","社会生产服务和生活服务人员求职人数","农林牧渔业生产及辅助人员需求人数","农林牧渔业生产及辅助人员求职人数","生产制造及有关人员需求人数","生产制造及有关人员求职人数","其他需求人数","其他求职人数","工种名称1","工种1需求人数","工种1求职人数","工种名称2","工种2需求人数","工种2求职人数","工种名称3","工种3需求人数","工种3求职人数","工种名称4","工种4需求人数","工种4求职人数","工种名称5","工种5需求人数","工种5求职人数","工种名称6","工种6需求人数","工种6求职人数","工种名称7","工种7需求人数","工种7求职人数","工种名称8","工种8需求人数","工种8求职人数","工种名称9","工种9需求人数","工种9求职人数","工种名称10","工种10需求人数","工种10求职人数","工种名称11","工种11需求人数","工种11求职人数","工种名称12","工种12需求人数","工种12求职人数","工种名称13","工种13需求人数","工种13求职人数","工种名称14","工种14需求人数","工种14求职人数","工种名称15","工种15需求人数","工种15求职人数","工种名称16","工种16需求人数","工种16求职人数","工种名称17","工种17需求人数","工种17求职人数","工种名称18","工种18需求人数","工种18求职人数","工种名称19","工种19需求人数","工种19求职人数","工种名称20","工种20需求人数","工种20求职人数","工种名称1","工种1需求人数","工种1求职人数","工种名称2","工种2需求人数","工种2求职人数","工种名称3","工种3需求人数","工种3求职人数","工种名称4","工种4需求人数","工种4求职人数","工种名称5","工种5需求人数","工种5求职人数","工种名称6","工种6需求人数","工种6求职人数","工种名称7","工种7需求人数","工种7求职人数","工种名称8","工种8需求人数","工种8求职人数","工种名称9","工种9需求人数","工种9求职人数","工种名称10","工种10需求人数","工种10求职人数","工种名称11","工种11需求人数","工种11求职人数","工种名称12","工种12需求人数","工种12求职人数","工种名称13","工种13需求人数","工种13求职人数","工种名称14","工种14需求人数","工种14求职人数","工种名称15","工种15需求人数","工种15求职人数","工种名称16","工种16需求人数","工种16求职人数","工种名称17","工种17需求人数","工种17求职人数","工种名称18","工种18需求人数","工种18求职人数","工种名称19","工种19需求人数","工种19求职人数","工种名称20","工种20需求人数","工种20求职人数",{"$f":"地市名称!A136","v":"新成长失业青年"},{"$f":"地市名称!A137","v":"  其中：应届高校毕业生"},{"$f":"地市名称!A138","v":"失业人员"},{"$f":"地市名称!A139","v":"在业人员"},{"$f":"地市名称!A140","v":"退休人员"},{"$f":"地市名称!A141","v":"在学人员"},{"$f":"地市名称!A142","v":"本市农村求职人员"},{"$f":"地市名称!A143","v":"外地户籍求职人员"},"性别男需求人数","性别男求职人数","性别女需求人数","性别女求职人数","性别无要求需求人数","年龄16-24岁需求人数","年龄16-24岁求职人数","年龄25-34岁需求人数","年龄25-34岁求职人数","年龄35-44岁需求人数","年龄35-44岁求职人数","年龄45岁以上需求人数","年龄45岁以上求职人数","年龄无要求需求人数","初中及以下需求人数","初中及以下求职人数","高中需求人数","高中求职人数","其中：职高、技校、中专需求人数","其中：职高、技校、中专求职人数","大专需求人数","大专求职人数","大学需求人数","大学求职人数","硕士以上需求人数","硕士以上求职人数","无要求需求人数","职业资格五级(初级技能)需求人数","职业资格五级(初级技能)求职人数","职业资格四级(中级技能)需求人数","职业资格四级(中级技能)求职人数","职业资格三级(高级技能)需求人数","职业资格三级(高级技能)求职人数","职业资格二级(技师)需求人数","职业资格二级(技师)求职人数","职业资格一级(高级技师)需求人数","职业资格一级(高级技师)求职人数","初级专业技术职务需求人数","初级专业技术职务求职人数","中级专业技术职务需求人数","中级专业技术职务求职人数","高级专业技术职务需求人数","高级专业技术职务求职人数","无技术等级或职称求职人数","技术等级无要求需求人数"]
[{"$f":"地市名称!C5","v":4557},{"$f":"地市名称!D5","v":4974},{"$f":"A4/B4","v":{"v":0.916164053075995,"d":"0.92"}},{"$f":"地市名称!C12","v":5},{"$f":"地市名称!C13","v":2187},{"$f":"地市名称!C14","v":2365},{"$f":"地市名称!C21","v":5},{"$f":"地市名称!C22","v":0},{"$f":"地市名称!C23","v":0},{"$f":"地市名称!C24","v":0},{"$f":"地市名称!C25","v":2568},{"$f":"地市名称!C26","v":498},{"$f":"地市名称!C27","v":79},{"$f":"地市名称!C28","v":38},{"$f":"地市名称!C29","v":68},{"$f":"地市名称!C30","v":43},{"$f":"地市名称!C31","v":1171},{"$f":"地市名称!C32","v":238},{"$f":"地市名称!C33","v":29},{"$f":"地市名称!C34","v":148},{"$f":"地市名称!C35","v":32},{"$f":"地市名称!C36","v":0},{"$f":"地市名称!C37","v":0},{"$f":"地市名称!C38","v":74},{"$f":"地市名称!C39","v":37},{"$f":"地市名称!C40","v":0},{"$f":"地市名称!C41","v":27},{"$f":"地市名称!C42","v":0},{"$f":"地市名称!C43","v":0},{"$f":"地市名称!C50","v":4557},{"$f":"地市名称!C51","v":3163},{"$f":"地市名称!C52","v":10},{"$f":"地市名称!C53","v":0},{"$f":"地市名称!C54","v":10},{"$f":"地市名称!C55","v":5},{"$f":"地市名称!C56","v":2058},{"$f":"地市名称!C57","v":365},{"$f":"地市名称!C58","v":699},{"$f":"地市名称!C59","v":16},{"$f":"地市名称!C60","v":59},{"$f":"地市名称!C61","v":16},{"$f":"地市名称!C62","v":1319},{"$f":"地市名称!C63","v":0},{"$f":"地市名称!C64","v":0},{"$f":"地市名称!C65","v":0},{"$f":"地市名称!C72","v":95},{"$f":"地市名称!E72","v":14},{"$f":"地市名称!C73","v":402},{"$f":"地市名称!E73","v":508},{"$f":"地市名称!C74","v":1116},{"$f":"地市名称!E74","v":1545},{"$f":"地市名称!C75","v":1045},{"$f":"地市名称!E75","v":1154},{"$f":"地市名称!C76","v":1},{"$f":"地市名称!E76","v":2},{"$f":"地市名称!C77","v":1008},{"$f":"地市名称!E77","v":1003},{"$f":"地市名称!C78","v":890},{"$f":"地市名称!E78","v":748},{"$f":"地市名称!A85","v":"普工"},{"$f":"地市名称!D85","v":1264},{"$f":"地市名称!E85","v":632},{"$f":"地市名称!A86","v":"业务员"},{"$f":"地市名称!D86","v":275},{"$f":"地市名称!E86","v":137},{"$f":"地市名称!A87","v":"营业员"},{"$f":"地市名称!D87","v":31},{"$f":"地市名称!E87","v":1513},{"$f":"地市名称!A88","v":"质检员"},{"$f":"地市名称!D88","v":26},{"$f":"地市名称!E88","v":21},{"$f":"地市名称!A89","v":"仓管员"},{"$f":"地市名称!D89","v":21},{"$f":"地市名称!E89","v":17},{"$f":"地市名称!A90","v":0},{"$f":"地市名称!D90","v":0},{"$f":"地市名称!E90","v":0},{"$f":"地市名称!A91","v":0},{"$f":"地市名称!D91","v":0},{"$f":"地市名称!E91","v":0},{"$f":"地市名称!A92","v":0},{"$f":"地市名称!D92","v":0},{"$f":"地市名称!E92","v":0},{"$f":"地市名称!A93","v":0},{"$f":"地市名称!D93","v":0},{"$f":"地市名称!E93","v":0},{"$f":"地市名称!A94","v":0},{"$f":"地市名称!D94","v":0},{"$f":"地市名称!E94","v":0},{"$f":"地市名称!A95","v":0},{"$f":"地市名称!D95","v":0},{"$f":"地市名称!E95","v":0},{"$f":"地市名称!A96","v":0},{"$f":"地市名称!D96","v":0},{"$f":"地市名称!E96","v":0},{"$f":"地市名称!A97","v":0},{"$f":"地市名称!D97","v":0},{"$f":"地市名称!E97","v":0},{"$f":"地市名称!A98","v":0},{"$f":"地市名称!D98","v":0},{"$f":"地市名称!E98","v":0},{"$f":"地市名称!A99","v":0},{"$f":"地市名称!D99","v":0},{"$f":"地市名称!E99","v":0},{"$f":"地市名称!A100","v":0},{"$f":"地市名称!D100","v":0},{"$f":"地市名称!E100","v":0},{"$f":"地市名称!A101","v":0},{"$f":"地市名称!D101","v":0},{"$f":"地市名称!E101","v":0},{"$f":"地市名称!A102","v":0},{"$f":"地市名称!D102","v":0},{"$f":"地市名称!E102","v":0},{"$f":"地市名称!A103","v":0},{"$f":"地市名称!D103","v":0},{"$f":"地市名称!E103","v":0},{"$f":"地市名称!A104","v":0},{"$f":"地市名称!D104","v":0},{"$f":"地市名称!E104","v":0},{"$f":"地市名称!A110","v":"文 员 "},{"$f":"地市名称!D110","v":159},{"$f":"地市名称!E110","v":318},{"$f":"地市名称!A111","v":"会计"},{"$f":"地市名称!D111","v":201},{"$f":"地市名称!E111","v":402},{"$f":"地市名称!A112","v":"驾驶员"},{"$f":"地市名称!D112","v":47},{"$f":"地市名称!E112","v":94},{"$f":"地市名称!A113","v":"跟单员"},{"$f":"地市名称!D113","v":42},{"$f":"地市名称!E113","v":55},{"$f":"地市名称!A114","v":"电工"},{"$f":"地市名称!D114","v":37},{"$f":"地市名称!E114","v":46},{"$f":"地市名称!A115","v":0},{"$f":"地市名称!D115","v":0},{"$f":"地市名称!E115","v":0},{"$f":"地市名称!A116","v":0},{"$f":"地市名称!D116","v":0},{"$f":"地市名称!E116","v":0},{"$f":"地市名称!A117","v":0},{"$f":"地市名称!D117","v":0},{"$f":"地市名称!E117","v":0},{"$f":"地市名称!A118","v":0},{"$f":"地市名称!D118","v":0},{"$f":"地市名称!E118","v":0},{"$f":"地市名称!A119","v":0},{"$f":"地市名称!D119","v":0},{"$f":"地市名称!E119","v":0},{"$f":"地市名称!A120","v":0},{"$f":"地市名称!D120","v":0},{"$f":"地市名称!E120","v":0},{"$f":"地市名称!A121","v":0},{"$f":"地市名称!D121","v":0},{"$f":"地市名称!E121","v":0},{"$f":"地市名称!A122","v":0},{"$f":"地市名称!D122","v":0},{"$f":"地市名称!E122","v":0},{"$f":"地市名称!A123","v":0},{"$f":"地市名称!D123","v":0},{"$f":"地市名称!E123","v":0},{"$f":"地市名称!A124","v":0},{"$f":"地市名称!D124","v":0},{"$f":"地市名称!D124","v":0},{"$f":"地市名称!A125","v":0},{"$f":"地市名称!D125","v":0},{"$f":"地市名称!D125","v":0},{"$f":"地市名称!A126","v":0},{"$f":"地市名称!D126","v":0},{"$f":"地市名称!E126","v":0},{"$f":"地市名称!A127","v":0},{"$f":"地市名称!D127","v":0},{"$f":"地市名称!E127","v":0},{"$f":"地市名称!A128","v":0},{"$f":"地市名称!D128","v":0},{"$f":"地市名称!E128","v":0},{"$f":"地市名称!A129","v":0},{"$f":"地市名称!D129","v":0},{"$f":"地市名称!E129","v":0},{"$f":"地市名称!C136","v":987},{"$f":"地市名称!C137","v":151},{"$f":"地市名称!C138","v":266},{"$f":"地市名称!C139","v":625},{"$f":"地市名称!C140","v":637},{"$f":"地市名称!C141","v":745},{"$f":"地市名称!C142","v":1673},{"$f":"地市名称!C143","v":41},{"$f":"地市名称!C152","v":"--"},{"$f":"地市名称!E152","v":2978},{"$f":"地市名称!C153","v":"--"},{"$f":"地市名称!E153","v":1996},{"$f":"地市名称!C154","v":"--"},{"$f":"地市名称!C161","v":1404},{"$f":"地市名称!E161","v":1787},{"$f":"地市名称!C162","v":1224},{"$f":"地市名称!E162","v":1495},{"$f":"地市名称!C163","v":731},{"$f":"地市名称!E163","v":962},{"$f":"地市名称!C164","v":461},{"$f":"地市名称!E164","v":730},{"$f":"地市名称!C165","v":737},{"$f":"地市名称!C172","v":964},{"$f":"地市名称!E172","v":1336},{"$f":"地市名称!C173","v":1494},{"$f":"地市名称!E173","v":1690},{"$f":"地市名称!E174","v":983},{"$f":"地市名称!E174","v":983},{"$f":"地市名称!C175","v":1293},{"$f":"地市名称!E175","v":1630},{"$f":"地市名称!C176","v":302},{"$f":"地市名称!E176","v":313},{"$f":"地市名称!C177","v":22},{"$f":"地市名称!E177","v":5},{"$f":"地市名称!C178","v":482},{"$f":"地市名称!C185","v":318},{"$f":"地市名称!E185","v":313},{"$f":"地市名称!C186","v":181},{"$f":"地市名称!E186","v":145},{"$f":"地市名称!C187","v":4},{"$f":"地市名称!E187","v":3},{"$f":"地市名称!C188","v":2},{"$f":"地市名称!E188","v":1},{"$f":"地市名称!C189","v":3},{"$f":"地市名称!E189","v":2},{"$f":"地市名称!C190","v":321},{"$f":"地市名称!E190","v":316},{"$f":"地市名称!C191","v":8},{"$f":"地市名称!E191","v":8},{"$f":"地市名称!C192","v":2},{"$f":"地市名称!E192","v":1},{"$f":"地市名称!E193","v":4185},{"$f":"地市名称!C194","v":3718}]