{"text_format":"3","workbook":"xlsx","n_sheets":2,"sheets":["地市名称","汇总表"],"read":"whole","date_system":"1900"}

{"sheet":"地市名称","index":0,"n_rows":181,"n_cols":7,"rows_kept":181,"merged":[[0,0,0,6],[7,0,8,0],[7,1,8,1],[7,2,7,3],[16,0,17,0],[16,1,17,1],[16,2,16,3],[45,0,46,0],[45,1,46,1],[45,2,45,3],[67,0,68,0],[67,1,68,1],[67,2,67,6],[81,0,82,0],[81,1,82,1],[81,2,82,2],[81,3,81,6],[95,0,96,0],[95,1,96,1],[95,2,96,2],[95,3,95,6],[118,0,119,0],[118,1,119,1],[118,2,118,3],[132,0,133,0],[132,1,133,1],[132,2,132,6],[143,0,144,0],[143,1,144,1],[143,2,143,6],[154,0,155,0],[154,1,155,1],[154,2,154,6],[167,0,168,0],[167,1,168,1],[167,2,167,6]]}
["2023年第三季度公共就业服务机构市场职业供求状况"]
[]
["项  目","代码","需求人数","求职人数","求人倍率"]
["甲","乙",1,2,3]
["本期有效数",1,{"$f":"C11","v":7393},{"$f":"E71","v":5697},{"$f":"IFERROR(C5/D5,0)","v":{"v":1.29770054414604,"d":"1.30"}}]
[]
["续表一"]
["项  目","代码","按产业分组的需求人数"]
[null,null,"需求人数","所占比重（%）"]
["甲","乙",4,5]
["合计",2,{"$f":"C12+C13+C14","v":7393},{"$f":"SUM(D12:D14)","v":{"v":1,"d":"100.00%"}}]
["第一产业",3,{"$f":"C21-C22","v":1},{"$f":"IFERROR(C12/$C$11,0)","v":{"v":0.000135263086703639,"d":"0.01%"}}]
["第二产业",4,{"$f":"C23-C24+C25-C26+C27+C28","v":2425},{"$f":"IFERROR(C13/$C$11,0)","v":{"v":0.328012985256324,"d":"32.80%"}}]
["第三产业",5,{"$f":"C22+C24+C26+C29+C30+C31+C32+C33+C34+C35+C36+C37+C38+C39+C40+C41+C42+C43","v":4967},{"$f":"IFERROR(C14/$C$11,0)","v":{"v":0.671851751656973,"d":"67.19%"}}]
[]
["续表二"]
["项  目","代码","按行业分组的需求人数"]
[null,null,"需求人数","所占比重（%）"]
["甲","乙",6,7]
["合计",6,{"$f":"SUM(C21:C43)-C22-C24-C26","v":7393},{"$f":"SUM(D21:D43)-D26-D24-D22","v":{"v":1,"d":"100.00%"}}]
["农、林、牧、渔业",7,2,{"$f":"IFERROR(C21/$C$11,0)","v":{"v":0.000270526173407277,"d":"0.03%"}}]
["    其中，农、林、牧、渔专业及辅助性活动",8,1,{"$f":"IFERROR(C22/$C$11,0)","v":{"v":0.000135263086703639,"d":"0.01%"}}]
["采矿业",9,0,{"v":0,"d":"0.00%"}]
[" 其中，开采专业及辅助性活动",10,0,{"v":0,"d":"0.00%"}]
["制造业",11,4125,{"v":0.557960232652509,"d":"55.80%"}]
["    其中，金属制品、机械和设备修理业",12,1897,{"v":0.256594075476802,"d":"25.66%"}]
["电力、热力、燃气及水生产和供应业",13,132,{"v":0.0178547274448803,"d":"1.79%"}]
["建筑业",14,65,{"v":0.00879210063573651,"d":"0.88%"}]
["批发和零售业",15,115,{"v":0.0155552549709184,"d":"1.56%"}]
["交通运输、仓储和邮政业",16,170,{"v":0.0229947247396186,"d":"2.30%"}]
["住宿和餐饮业",17,1820,{"v":0.246178817800622,"d":"24.62%"}]
["信息传输、软件和信息技术服务业",18,391,{"v":0.0528878669011227,"d":"5.29%"}]
["金融业",19,47,{"v":0.00635736507507101,"d":"0.64%"}]
["房地产业",20,241,{"v":0.0325984038955769,"d":"3.26%"}]
["租赁和商务服务业",21,50,{"v":0.00676315433518193,"d":"0.68%"}]
["科学研究和技术服务业",22,0,{"v":0,"d":"0.00%"}]
["水利、环境和公共设施管理业",23,0,{"v":0,"d":"0.00%"}]
["居民服务、修理和其他服务业",24,127,{"v":0.0171784120113621,"d":"1.72%"}]
["教育",25,60,{"v":0.00811578520221832,"d":"0.81%"}]
["卫生和社会工作",26,0,{"v":0,"d":"0.00%"}]
["文化、体育和娱乐业",27,48,{"v":0.00649262816177465,"d":"0.65%"}]
["公共管理、社会保障和社会组织",28,0,{"v":0,"d":"0.00%"}]
["国际组织",29,0,{"v":0,"d":"0.00%"}]
[]
["续表三"]
["项  目","代码","按用人单位性质分组的需求人数"]
[null,null,"需求人数","所占比重（%）"]
["甲","乙",8,9]
["合  计",30,{"$f":"C50+C63+C64+C65","v":7393},{"$f":"D50+D63+D64+D65","v":{"v":1,"d":"100.00%"}}]
["企  业",31,{"$f":"C51+C60+C61+C62","v":7393},{"$f":"IFERROR(C50/$C$11,0)","v":{"v":1,"d":"100.00%"}}]
[" 内资企业",32,{"$f":"C52+C53+C54+C55+C56+C57+C58+C59","v":5096},{"$f":"IFERROR(C51/$C$11,0)","v":{"v":0.689300689841742,"d":"68.93%"}}]
["  国有企业",33,15,{"v":0.00202894630055458,"d":"0.20%"}]
["  集体企业",34,0,{"v":0,"d":"0.00%"}]
["  股份合作企业",35,19,{"v":0.00256999864736913,"d":"0.26%"}]
["  联营企业",36,9,{"v":0.00121736778033275,"d":"0.12%"}]
["  有限责任公司",37,3278,{"v":0.443392398214527,"d":"44.34%"}]
["  股份有限公司",38,601,{"v":0.0812931151088868,"d":"8.13%"}]
["  私营企业",39,1148,{"v":0.155282023535777,"d":"15.53%"}]
["  其他企业",40,26,{"v":0.0035168402542946,"d":"0.35%"}]
["  港、澳、台商投资企业",41,109,{"v":0.0147436764506966,"d":"1.47%"}]
["  外商投资企业",42,29,{"v":0.00392262951440552,"d":"0.39%"}]
["  个体经营",43,2159,{"v":0.292033004193156,"d":"29.20%"}]
["  事  业",44,0,{"v":0,"d":"0.00%"}]
["  机  关",45,0,{"v":0,"d":"0.00%"}]
["  其  他",46,0,{"v":0,"d":"0.00%"}]
[]
["续表四"]
["项  目","代码","按职业分组的供求人数（职业大类）"]
[null,null,"需求人数","所占比重（%）","求职人数","所占比重（%）","求人倍率"]
["甲","乙",10,11,12,13,14]
["合计",47,{"$f":"SUM(C72:C78)","v":7393},{"$f":"SUM(D72:D78)","v":{"v":1,"d":"100.00%"}},{"$f":"SUM(E72:E79)","v":5697},{"$f":"SUM(F72:F79)","v":{"v":1,"d":"100.00%"}},{"$f":"IFERROR(C71/E71,0)","v":{"v":1.29770054414604,"d":"1.30"}}]
["单位负责人",48,16,{"$f":"IFERROR(C72/$C$11,0)","v":{"v":0.00216420938725822,"d":"0.22%"}},12,{"$f":"IFERROR(E72/$E$71,0)","v":{"v":0.00210637177461822,"d":"0.21%"}},{"$f":"IFERROR(C72/(E72+$E$79*F72),0)","v":{"v":1.33333333333333,"d":"1.33"}}]
["专业技术人员",49,663,{"$f":"IFERROR(C73/$C$11,0)","v":{"v":0.0896794264845124,"d":"8.97%"}},582,{"$f":"IFERROR(E73/$E$71,0)","v":{"v":0.102159031068984,"d":"10.22%"}},{"$f":"IFERROR(C73/(E73+$E$79*F73),0)","v":{"v":1.13917525773196,"d":"1.14"}}]
["办事人员和有关人员",50,1829,{"v":0.247396185580955,"d":"24.74%"},1769,{"v":0.310514305774969,"d":"31.05%"},{"v":1.03391746749576,"d":"1.03"}]
["社会生产服务和生活服务人员",51,1753,{"v":0.237116190991478,"d":"23.71%"},1322,{"v":0.232051957170441,"d":"23.21%"},{"v":1.32602118003026,"d":"1.33"}]
["农林牧渔业生产及辅助人员",52,1,{"v":0.000135263086703639,"d":"0.01%"},1,{"v":0.000175530981218185,"d":"0.02%"},{"v":1,"d":"1.00"}]
["生产制造及有关人员",53,1677,{"v":0.226836196402002,"d":"22.68%"},1147,{"v":0.201334035457258,"d":"20.13%"},{"v":1.46207497820401,"d":"1.46"}]
["其他",54,1454,{"v":0.19667252806709,"d":"19.67%"},864,{"v":0.151658767772512,"d":"15.17%"},{"v":1.68287037037037,"d":"1.68"}]
["无要求",55,"-","-",null,{"v":0,"d":"0.00%"},"-"]
[]
["续表五"]
["项  目","代码","职业代码","需求大于求职缺口最大的前二十个职业（职业细类）"]
[{"$nulls":3},"需求人数","求职人数","缺口数","求人倍率"]
["甲","乙",15,16,17,18,19]
["普工",56,6279800,1374,687,{"$f":"D85-E85","v":687},{"$f":"IFERROR(D85/E85,0)","v":{"v":2,"d":"2.00"}}]
["业务员",57,4010299,457,228,229,{"$f":"IFERROR(D86/E86,0)","v":{"v":2.00438596491228,"d":"2.00"}}]
["营业员",58,4010100,57,28,29,{"v":2.03571428571429,"d":"2.04"}]
["质检员",59,6262100,50,27,23,{"v":1.85185185185185,"d":"1.85"}]
["仓管员",60,4020199,45,21,24,{"v":2.14285714285714,"d":"2.14"}]
[null,61,{"$nulls":3},0,{"v":0,"d":"0.00"}]
[null,62,{"$nulls":3},0,{"v":0,"d":"0.00"}]
[null,63,{"$nulls":3},0,{"v":0,"d":"0.00"}]
[]
[]
["续表六"]
["项  目","代码","职业代码","需求小于求职缺口最大的前二十个职业（职业细类）"]
[{"$nulls":3},"需求人数","求职人数","缺口数","求人倍率"]
["甲","乙",20,21,22,23,24]
["文 员 ",76,3010200,261,522,{"$f":"D99-E99","v":-261},{"$f":"IFERROR(D99/E99,0)","v":{"v":0.5,"d":"0.50"}}]
["会计",77,2060300,331,663,-332,{"$f":"IFERROR(D100/E100,0)","v":{"v":0.499245852187029,"d":"0.50"}}]
["驾驶员",78,6240100,83,167,-84,{"v":0.497005988023952,"d":"0.50"}]
["跟单员",79,3010199,75,150,-75,{"v":0.5,"d":"0.50"}]
["电工",80,6240100,65,130,-65,{"v":0.5,"d":"0.50"}]
[null,81,{"$nulls":3},{"$f":"D104-E104","v":0},{"v":0,"d":"0.00"}]
[null,82,{"$nulls":3},0,{"v":0,"d":"0.00"}]
[null,83,{"$nulls":3},0,{"v":0,"d":"0.00"}]
[null,84,{"$nulls":3},0,{"v":0,"d":"0.00"}]
[null,85,{"$nulls":3},{"$f":"D108-E108","v":0},{"$f":"IFERROR(D108/E108,0)","v":{"v":0,"d":"0.00"}}]
[null,86,{"$nulls":3},0,{"v":0,"d":"0.00"}]
[null,87,{"$nulls":3},0,{"v":0,"d":"0.00"}]
[null,88,{"$nulls":3},0,{"v":0,"d":"0.00"}]
[null,89,{"$nulls":3},0,{"v":0,"d":"0.00"}]
[null,90,{"$nulls":3},0,{"v":0,"d":"0.00"}]
[null,91,{"$nulls":3},0,{"v":0,"d":"0.00"}]
[null,92,{"$nulls":3},0,{"v":0,"d":"0.00"}]
[null,93,{"$nulls":3},0,{"v":0,"d":"0.00"}]
[]
["续表七"]
["项  目","代码","按求职人员类别分组的求职人数"]
[null,null,"求职人数","所占比重（%）"]
["甲","乙",25,26]
["合计",96,{"$f":"SUM(C123:C130)-C124","v":5697},{"$f":"SUM(D123:D130)-D124","v":{"v":1,"d":"100.00%"}}]
["新成长失业青年",97,1408,{"$f":"IFERROR(C123/$C$122,0)","v":{"v":0.247147621555205,"d":"24.71%"}}]
["  其中：应届高校毕业生",98,1260,{"v":0.221169036334913,"d":"22.12%"}]
["失业人员",99,513,{"v":0.0900473933649289,"d":"9.00%"}]
["在业人员",100,691,{"v":0.121291908021766,"d":"12.13%"}]
["退休人员",101,56,{"v":0.00982973494821836,"d":"0.98%"}]
["在学人员",102,803,{"v":0.140951377918203,"d":"14.10%"}]
["本市农村求职人员",103,2214,{"v":0.388625592417062,"d":"38.86%"}]
["外地户籍求职人员",104,12,{"v":0.00210637177461822,"d":"0.21%"}]
[]
["续表八"]
["项  目","代码","劳动力供求人数比较（按性别分组）"]
[null,null,"需求人数","所占比重（%）","求职人数","所占比重（%）","求人倍率"]
["甲","乙",27,28,29,30,31]
["合计",105,"--","--",{"$f":"SUM(E137:E138)","v":5697},{"$f":"SUM(F137:F138)","v":{"v":1,"d":"100.00%"}},"--"]
["男",106,"--","--",3275,{"$f":"IFERROR(E137/$E$136,0)","v":{"v":0.574863963489556,"d":"57.49%"}},"--"]
["女",107,"--","--",2422,{"$f":"IFERROR(E138/$E$136,0)","v":{"v":0.425136036510444,"d":"42.51%"}},"--"]
["无要求",108,"--","--","--","--","--"]
[]
[]
[]
["续表九"]
["项  目","代码","劳动力供求人数比较（按年龄分组）"]
[null,null,"需求人数","需求比重（%）","求职人数","求职比重（%）","求人倍率"]
["甲","乙",32,33,34,35,36]
["合计",109,{"$f":"SUM(C148:C152)","v":7393},{"$f":"SUM(D148:D152)","v":{"v":1,"d":"100.00%"}},{"$f":"SUM(E148:E151)","v":5697},{"$f":"SUM(F148:F151)","v":{"v":1,"d":"100.00%"}},{"$f":"IF(E147=0,0,C147/E147)","v":{"v":1.29770054414604,"d":"1.30"}}]
["16-24岁",110,2591,{"$f":"IFERROR(C148/$C$171,0)","v":{"v":0.350466657649128,"d":"35.05%"}},2293,{"$f":"IFERROR(E148/$E$147,0)","v":{"v":0.402492539933298,"d":"40.25%"}},{"$f":"IFERROR((C148+$C$152*F148)/E148,0)","v":{"v":1.22773150664756,"d":"1.23"}}]
["25-34岁",111,1995,{"$f":"IFERROR(C149/$C$171,0)","v":{"v":0.269849857973759,"d":"26.98%"}},1592,{"$f":"IFERROR(E149/$E$147,0)","v":{"v":0.279445322099351,"d":"27.94%"}},{"$f":"IFERROR((C149+$C$152*F149)/E149,0)","v":{"v":1.35091146005612,"d":"1.35"}}]
["35-44岁",112,1297,{"$f":"IFERROR(C150/$C$171,0)","v":{"v":0.175436223454619,"d":"17.54%"}},1024,{"$f":"IFERROR(E150/$E$147,0)","v":{"v":0.179743724767421,"d":"17.97%"}},{"$f":"IFERROR((C150+$C$152*F150)/E150,0)","v":{"v":1.36437231903853,"d":"1.36"}}]
["45岁以上",113,953,{"$f":"IFERROR(C151/$C$171,0)","v":{"v":0.128905721628568,"d":"12.89%"}},788,{"$f":"IFERROR(E151/$E$147,0)","v":{"v":0.13831841319993,"d":"13.83%"}},{"$f":"IFERROR((C151+$C$152*F151)/E151,0)","v":{"v":1.30716161948269,"d":"1.31"}}]
["无要求",114,557,{"$f":"IFERROR(C152/$C$171,0)","v":{"v":0.0753415392939267,"d":"7.53%"}},"--","--","--"]
[]
["续表十"]
["项  目","代码","劳动力供求人数比较（按文化程度分组）"]
[null,null,"需求人数","需求比重（%）","求职人数","求职比重（%）","求人倍率"]
["甲","乙",37,38,39,40,41]
["合计",115,{"$f":"SUM(C159:C165)-C161","v":7393},{"$f":"SUM(D159:D165)-D161","v":{"v":1,"d":"100.00%"}},{"$f":"SUM(E159:E164)-E161","v":5697},{"$f":"SUM(F159:F164)-F161","v":{"v":1,"d":"100.00%"}},{"$f":"IF(E158=0,0,C158/E158)","v":{"v":1.29770054414604,"d":"1.30"}}]
["初中及以下",116,1577,{"$f":"IFERROR(C159/$C$171,0)","v":{"v":0.213309887731638,"d":"21.33%"}},1470,{"$f":"IFERROR(E159/$E$158,0)","v":{"v":0.258030542390732,"d":"25.80%"}},{"$f":"IFERROR((C159+$C$165*F159)/E159,0)","v":{"v":1.21128305982741,"d":"1.21"}}]
["高中",117,2424,{"v":0.32787772216962,"d":"32.79%"},1974,{"v":0.346498156924697,"d":"34.65%"},{"v":1.36645747001701,"d":"1.37"}]
["其中：职高、技校、中专",118,1858,{"v":0.25131881509536,"d":"25.13%"},1153,{"v":0.202387221344567,"d":"20.24%"},{"v":1.74994233967117,"d":"1.75"}]
["大专",119,2108,{"v":0.28513458677127,"d":"28.51%"},1879,{"v":0.32982271370897,"d":"32.98%"},{"v":1.26036728106247,"d":"1.26"}]
["大学",120,492,{"v":0.0665494386581902,"d":"6.65%"},373,{"v":0.065473055994383,"d":"6.55%"},{"v":1.45752879672807,"d":"1.46"}]
["硕士以上",121,3,{"v":0.000405789260110916,"d":"0.04%"},1,{"v":0.000175530981218185,"d":"0.02%"},{"v":3.13849394418115,"d":"3.14"}]
["无要求",122,789,{"v":0.106722575409171,"d":"10.67%"},"--","--","--"]
[]
["续表十一"]
["项  目","代码","劳动力供求人数比较（按技术等级分组）"]
[null,null,"需求人数","需求比重（%）","求职人数","求职比重（%）","求人倍率"]
["甲","乙",42,43,44,45,46]
["合计",123,{"$f":"SUM(C172:C181)","v":7393},{"$f":"SUM(D172:D181)","v":{"v":1,"d":"100.00%"}},{"$f":"SUM(E172:E180)","v":5697},{"$f":"SUM(F172:F180)","v":{"v":1,"d":"100.00%"}},{"$f":"IF(E171=0,0,C171/E171)","v":{"v":1.29770054414604,"d":"1.30"}}]
["职业资格五级(初级技能)",124,516,{"$f":"IFERROR(C172/$C$171,0)","v":{"v":0.0697957527390775,"d":"6.98%"}},358,{"$f":"IFERROR(E172/$E$158,0)","v":{"v":0.0628400912761102,"d":"6.28%"}},{"$f":"IFERROR((C172+$C$181*F172)/E172,0)","v":{"v":2.49979259886856,"d":"2.50"}}]
["职业资格四级(中级技能)",125,294,{"$f":"IFERROR(C173/$C$171,0)","v":{"v":0.0397673474908697,"d":"3.98%"}},166,{"$f":"IFERROR(E173/$E$158,0)","v":{"v":0.0291381428822187,"d":"2.91%"}},{"$f":"IFERROR((C173+$C$181*F173)/E173,0)","v":{"v":2.82953615409505,"d":"2.83"}}]
["职业资格三级(高级技能)",126,6,{"$f":"IFERROR(C174/$C$171,0)","v":{"v":0.000811578520221832,"d":"0.08%"}},4,{"v":0.00070212392487274,"d":"0.07%"},{"v":2.55845181674566,"d":"2.56"}]
["职业资格二级(技师)",127,4,{"$f":"IFERROR(C175/$C$171,0)","v":{"v":0.000541052346814554,"d":"0.05%"}},1,{"v":0.000175530981218185,"d":"0.02%"},{"v":5.05845181674566,"d":"5.06"}]
["职业资格一级(高级技师)",128,5,{"$f":"IFERROR(C176/$C$171,0)","v":{"v":0.000676315433518193,"d":"0.07%"}},2,{"v":0.00035106196243637,"d":"0.04%"},{"v":3.55845181674566,"d":"3.56"}]
["初级职称",129,521,{"v":0.0704720681725957,"d":"7.05%"},362,{"v":0.063542215200983,"d":"6.35%"},{"v":2.49767833608267,"d":"2.50"}]
["中级职称",130,14,{"v":0.00189368321385094,"d":"0.19%"},9,{"v":0.00157977883096367,"d":"0.16%"},{"v":2.61400737230121,"d":"2.61"}]
["高级职称",131,3,{"v":0.000405789260110916,"d":"0.04%"},1,{"v":0.000175530981218185,"d":"0.02%"},{"v":4.05845181674566,"d":"4.06"}]
["无技术等级或职称",132,"——","--",4794,{"v":0.841495523959979,"d":"84.15%"},"--"]
["无要求",133,6030,{"$f":"IFERROR(C181/$C$171,0)","v":{"v":0.815636412822941,"d":"81.56%"}},"--","--","--"]

{"sheet":"汇总表","index":1,"n_rows":4,"n_cols":232,"rows_kept":4,"merged":[[0,0,0,2],[0,3,0,5],[0,6,0,28],[0,29,0,44],[0,45,0,58],[0,59,0,118],[0,120,0,139],[0,179,0,186],[0,187,0,191],[0,192,0,200],[0,201,0,213],[0,214,0,231]]}
["供求总体人数",null,null," 按产业分组的需求人数",null,null,"按行业分组的需求人数",{"$nulls":22},"按用人单位性质分组的需求人数",{"$nulls":15},"按职业分组的供求人数",{"$nulls":13},"表6 需求大于求职缺口最大的前二十个职业（职业细类）",{"$nulls":60},"表7 需求小于求职缺口最大的前二十个职业（职业细类）",{"$nulls":58},"表8 按求职人员类别分组的求职人数",{"$nulls":7},"表9 按性别分组的供求人数",{"$nulls":4},"表10 按年龄分组的供求人数",{"$nulls":8},"表11 按文化程度分组的供求人数",{"$nulls":12},"表12 按技术等级分组的供求人数"]
[1,2,3,4,5,6,7,8,9,10,11,12,13,14,15,16,17,18,19,20,21,22,23,24,25,26,27,28,29,30,31,32,33,34,35,36,37,38,39,40,41,42,43,44,45,46,47,48,49,50,51,52,53,54,55,56,57,58,59,60,61,62,63,64,65,66,67,68,69,70,71,72,73,74,75,76,77,78,79,80,81,82,83,84,85,86,87,88,89,90,91,92,93,94,95,96,97,98,99,100,101,102,103,104,105,106,107,108,109,110,111,112,113,114,115,116,117,118,119,120,121,122,123,124,125,126,127,128,129,130,131,132,133,134,135,136,137,138,139,140,141,142,143,144,145,146,147,148,149,150,151,152,153,154,155,156,157,158,159,160,161,162,163,164,165,166,167,168,169,170,171,172,173,174,175,176,177,178,179,180,181,182,183,184,185,186,187,188,189,190,191,192,193,194,195,196,197,198,199,200,201,202,203,204,205,206,207,208,209,210,211,212,213,214,215,216,217,218,219,220,221,222,223,224,225,226,227,228,229,230,231,232]
[{"$f":"地市名称!C3","v":"需求人数"},{"$f":"地市名称!D3","v":"求职人数"},{"$f":"地市名称!E3","v":"求人倍率"},{"$f":"地市名称!A12","v":"第一产业"},{"$f":"地市名称!A13","v":"第二产业"},{"$f":"地市名称!A14","v":"第三产业"},{"$f":"地市名称!A21","v":"农、林、牧、渔业"},"    其中，农、林、牧、渔专业及辅助性活动",{"$f":"地市名称!A23","v":"采矿业"},"    其中，开采专业及辅助性活动",{"$f":"地市名称!A25","v":"制造业"},"    其中，金属制品、机械和设备修理业",{"$f":"地市名称!A27","v":"电力、热力、燃气及水生产和供应业"},{"$f":"地市名称!A28","v":"建筑业"},{"$f":"地市名称!A29","v":"批发和零售业"},{"$f":"地市名称!A30","v":"交通运输、仓储和邮政业"},{"$f":"地市名称!A31","v":"住宿和餐饮业"},{"$f":"地市名称!A32","v":"信息传输、软件和信息技术服务业"},{"$f":"地市名称!A33","v":"金融业"},{"$f":"地市名称!A34","v":"房地产业"},{"$f":"地市名称!A35","v":"租赁和商务服务业"},{"$f":"地市名称!A36","v":"科学研究和技术服务业"},{"$f":"地市名称!A37","v":"水利、环境和公共设施管理业"},{"$f":"地市名称!A38","v":"居民服务、修理和其他服务业"},{"$f":"地市名称!A39","v":"教育"},{"$f":"地市名称!A40","v":"卫生和社会工作"},{"$f":"地市名称!A41","v":"文化、体育和娱乐业"},{"$f":"地市名称!A42","v":"公共管理、社会保障和社会组织"},{"$f":"地市名称!A43","v":"国际组织"},{"$f":"地市名称!A50","v":"企  业"},{"$f":"地市名称!A51","v":" 内资企业"},{"$f":"地市名称!A52","v":"  国有企业"},{"$f":"地市名称!A53","v":"  集体企业"},{"$f":"地市名称!A54","v":"  股份合作企业"},{"$f":"地市名称!A55","v":"  联营企业"},{"$f":"地市名称!A56","v":"  有限责任公司"},{"$f":"地市名称!A57","v":"  股份有限公司"},{"$f":"地市名称!A58","v":"  私营企业"},{"$f":"地市名称!A59","v":"  其他企业"},{"$f":"地市名称!A60","v":"  港、澳、台商投资企业"},{"$f":"地市名称!A61","v":"  外商投资企业"},{"$f":"地市名称!A62","v":"  个体经营"},{"$f":"地市名称!A63","v":"  事  业"},{"$f":"地市名称!A64","v":"  机  关"},{"$f":"地市名称!A65","v":"  其  他"},"单位负责人需求人数","单位负责人求职人数","专业技术人员需求人数","专业技术人员求职人数","办事人员和有关人员需求人数","办事人员和有关人员求职人数","社会生产服务和生活服务人员需求人数","社会生产服务和生活服务人员求职人数","农林牧渔业生产及辅助人员需求人数","农林牧渔业生产及辅助人员求职人数","生产制造及有关人员需求人数","生产制造及有关人员求职人数","其他需求人数","其他求职人数","工种名称1","工种1需求人数","工种1求职人数","工种名称2","工种2需求人数","工种2求职人数","工种名称3","工种3需求人数","工种3求职人数","工种名称4","工种4需求人数","工种4求职人数","工种名称5","工种5需求人数","工种5求职人数","工种名称6","工种6需求人数","工种6求职人数","工种名称7","工种7需求人数","工种7求职人数","工种名称8","工种8需求人数","工种8求职人数","工种名称9","工种9需求人数","工种9求职人数","工种名称10","工种10需求人数","工种10求职人数","工种名称11","工种11需求人数","工种11求职人数","工种名称12","工种12需求人数","工种12求职人数","工种名称13","工种13需求人数","工种13求职人数","工种名称14","工种14需求人数","工种14求职人数","工种名称15","工种15需求人数","工种15求职人数","工种名称16","工种16需求人数","工种16求职人数","工种名称17","工种17需求人数","工种17求职人数","工种名称18","工种18需求人数","工种18求职人数","工种名称19","工种19需求人数","工种19求职人数","工种名称20","工种20需求人数","工种20求职人数","工种名称1","工种1需求人数","工种1求职人数","工种名称2","工种2需求人数","工种2求职人数","工种名称3","工种3需求人数","工种3求职人数","工种名称4","工种4需求人数","工种4求职人数","工种名称5","工种5需求人数","工种5求职人数","工种名称6","工种6需求人数","工种6求职人数","工种名称7","工种7需求人数","工种7求职人数","工种名称8","工种8需求人数","工种8求职人数","工种名称9","工种9需求人数","工种9求职人数","工种名称10","工种10需求人数","工种10求职人数","工种名称11","工种11需求人数","工种11求职人数","工种名称12","工种12需求人数","工种12求职人数","工种名称13","工种13需求人数","工种13求职人数","工种名称14","工种14需求人数","工种14求职人数","工种名称15","工种15需求人数","工种15求职人数","工种名称16","工种16需求人数","工种16求职人数","工种名称17","工种17需求人数","工种17求职人数","工种名称18","工种18需求人数","工种18求职人数","工种名称19","工种19需求人数","工种19求职人数","工种名称20","工种20需求人数","工种20求职人数",{"$f":"地市名称!A123","v":"新成长失业青年"},{"$f":"地市名称!A124","v":"  其中：应届高校毕业生"},{"$f":"地市名称!A125","v":"失业人员"},{"$f":"地市名称!A126","v":"在业人员"},{"$f":"地市名称!A127","v":"退休人员"},{"$f":"地市名称!A128","v":"在学人员"},{"$f":"地市名称!A129","v":"本市农村求职人员"},{"$f":"地市名称!A130","v":"外地户籍求职人员"},"性别男需求人数","性别男求职人数","性别女需求人数","性别女求职人数","性别无要求需求人数","年龄16-24岁需求人数","年龄16-24岁求职人数","年龄25-34岁需求人数","年龄25-34岁求职人数","年龄35-44岁需求人数","年龄35-44岁求职人数","年龄45岁以上需求人数","年龄45岁以上求职人数","年龄无要求需求人数","初中及以下需求人数","初中及以下求职人数","高中需求人数","高中求职人数","其中：职高、技校、中专需求人数","其中：职高、技校、中专求职人数","大专需求人数","大专求职人数","大学需求人数","大学求职人数","硕士以上需求人数","硕士以上求职人数","无要求需求人数","职业资格五级(初级技能)需求人数","职业资格五级(初级技能)求职人数","职业资格四级(中级技能)需求人数","职业资格四级(中级技能)求职人数","职业资格三级(高级技能)需求人数","职业资格三级(高级技能)求职人数","职业资格二级(技师)需求人数","职业资格二级(技师)求职人数","职业资格一级(高级技师)需求人数","职业资格一级(高级技师)求职人数","初级专业技术职务需求人数","初级专业技术职务求职人数","中级专业技术职务需求人数","中级专业技术职务求职人数","高级专业技术职务需求人数","高级专业技术职务求职人数","无技术等级或职称求职人数","技术等级无要求需求人数"]
[{"$f":"地市名称!C5","v":7393},{"$f":"地市名称!D5","v":5697},{"$f":"A4/B4","v":{"v":1.29770054414604,"d":"1.30"}},{"$f":"地市名称!C12","v":1},{"$f":"地市名称!C13","v":2425},{"$f":"地市名称!C14","v":4967},{"$f":"地市名称!C21","v":2},{"$f":"地市名称!C22","v":1},{"$f":"地市名称!C23","v":0},{"$f":"地市名称!C24","v":0},{"$f":"地市名称!C25","v":4125},{"$f":"地市名称!C26","v":1897},{"$f":"地市名称!C27","v":132},{"$f":"地市名称!C28","v":65},{"$f":"地市名称!C29","v":115},{"$f":"地市名称!C30","v":170},{"$f":"地市名称!C31","v":1820},{"$f":"地市名称!C32","v":391},{"$f":"地市名称!C33","v":47},{"$f":"地市名称!C34","v":241},{"$f":"地市名称!C35","v":50},{"$f":"地市名称!C36","v":0},{"$f":"地市名称!C37","v":0},{"$f":"地市名称!C38","v":127},{"$f":"地市名称!C39","v":60},{"$f":"地市名称!C40","v":0},{"$f":"地市名称!C41","v":48},{"$f":"地市名称!C42","v":0},{"$f":"地市名称!C43","v":0},{"$f":"地市名称!C50","v":7393},{"$f":"地市名称!C51","v":5096},{"$f":"地市名称!C52","v":15},{"$f":"地市名称!C53","v":0},{"$f":"地市名称!C54","v":19},{"$f":"地市名称!C55","v":9},{"$f":"地市名称!C56","v":3278},{"$f":"地市名称!C57","v":601},{"$f":"地市名称!C58","v":1148},{"$f":"地市名称!C59","v":26},{"$f":"地市名称!C60","v":109},{"$f":"地市名称!C61","v":29},{"$f":"地市名称!C62","v":2159},{"$f":"地市名称!C63","v":0},{"$f":"地市名称!C64","v":0},{"$f":"地市名称!C65","v":0},{"$f":"地市名称!C72","v":16},{"$f":"地市名称!E72","v":12},{"$f":"地市名称!C73","v":663},{"$f":"地市名称!E73","v":582},{"$f":"地市名称!C74","v":1829},{"$f":"地市名称!E74","v":1769},{"$f":"地市名称!C75","v":1753},{"$f":"地市名称!E75","v":1322},{"$f":"地市名称!C76","v":1},{"$f":"地市名称!E76","v":1},{"$f":"地市名称!C77","v":1677},{"$f":"地市名称!E77","v":1147},{"$f":"地市名称!C78","v":1454},{"$f":"地市名称!E78","v":864},{"$f":"地市名称!A85","v":"普工"},{"$f":"地市名称!D85","v":1374},{"$f":"地市名称!E85","v":687},{"$f":"地市名称!A86","v":"业务员"},{"$f":"地市名称!D86","v":457},{"$f":"地市名称!E86","v":228},{"$f":"地市名称!A87","v":"营业员"},{"$f":"地市名称!D87","v":57},{"$f":"地市名称!E87","v":28},{"$f":"地市名称!A88","v":"质检员"},{"$f":"地市名称!D88","v":50},{"$f":"地市名称!E88","v":27},{"$f":"地市名称!A89","v":"仓管员"},{"$f":"地市名称!D89","v":45},{"$f":"地市名称!E89","v":21},{"$f":"地市名称!A90","v":0},{"$f":"地市名称!D90","v":0},{"$f":"地市名称!E90","v":0},{"$f":"地市名称!A91","v":0},{"$f":"地市名称!D91","v":0},{"$f":"地市名称!E91","v":0},{"$f":"地市名称!A92","v":0},{"$f":"地市名称!D92","v":0},{"$f":"地市名称!E92","v":0},{"$f":"地市名称!#REF!","v":{"$error":"#REF!"}},{"$f":"地市名称!#REF!","v":{"$error":"#REF!"}},{"$f":"地市名称!#REF!","v":{"$error":"#REF!"}},{"$f":"地市名称!#REF!","v":{"$error":"#REF!"}},{"$f":"地市名称!#REF!","v":{"$error":"#REF!"}},{"$f":"地市名称!#REF!","v":{"$error":"#REF!"}},{"$f":"地市名称!#REF!","v":{"$error":"#REF!"}},{"$f":"地市名称!#REF!","v":{"$error":"#REF!"}},{"$f":"地市名称!#REF!","v":{"$error":"#REF!"}},{"$f":"地市名称!#REF!","v":{"$error":"#REF!"}},{"$f":"地市名称!#REF!","v":{"$error":"#REF!"}},{"$f":"地市名称!#REF!","v":{"$error":"#REF!"}},{"$f":"地市名称!#REF!","v":{"$error":"#REF!"}},{"$f":"地市名称!#REF!","v":{"$error":"#REF!"}},{"$f":"地市名称!#REF!","v":{"$error":"#REF!"}},{"$f":"地市名称!#REF!","v":{"$error":"#REF!"}},{"$f":"地市名称!#REF!","v":{"$error":"#REF!"}},{"$f":"地市名称!#REF!","v":{"$error":"#REF!"}},{"$f":"地市名称!#REF!","v":{"$error":"#REF!"}},{"$f":"地市名称!#REF!","v":{"$error":"#REF!"}},{"$f":"地市名称!#REF!","v":{"$error":"#REF!"}},{"$f":"地市名称!#REF!","v":{"$error":"#REF!"}},{"$f":"地市名称!#REF!","v":{"$error":"#REF!"}},{"$f":"地市名称!#REF!","v":{"$error":"#REF!"}},{"$f":"地市名称!#REF!","v":{"$error":"#REF!"}},{"$f":"地市名称!#REF!","v":{"$error":"#REF!"}},{"$f":"地市名称!#REF!","v":{"$error":"#REF!"}},{"$f":"地市名称!#REF!","v":{"$error":"#REF!"}},{"$f":"地市名称!#REF!","v":{"$error":"#REF!"}},{"$f":"地市名称!#REF!","v":{"$error":"#REF!"}},{"$f":"地市名称!#REF!","v":{"$error":"#REF!"}},{"$f":"地市名称!#REF!","v":{"$error":"#REF!"}},{"$f":"地市名称!#REF!","v":{"$error":"#REF!"}},{"$f":"地市名称!#REF!","v":{"$error":"#REF!"}},{"$f":"地市名称!#REF!","v":{"$error":"#REF!"}},{"$f":"地市名称!#REF!","v":{"$error":"#REF!"}},{"$f":"地市名称!A99","v":"文 员 "},{"$f":"地市名称!D99","v":261},{"$f":"地市名称!E99","v":522},{"$f":"地市名称!A100","v":"会计"},{"$f":"地市名称!D100","v":331},{"$f":"地市名称!E100","v":663},{"$f":"地市名称!A101","v":"驾驶员"},{"$f":"地市名称!D101","v":83},{"$f":"地市名称!E101","v":167},{"$f":"地市名称!A102","v":"跟单员"},{"$f":"地市名称!D102","v":75},{"$f":"地市名称!E102","v":150},{"$f":"地市名称!A103","v":"电工"},{"$f":"地市名称!D103","v":65},{"$f":"地市名称!E103","v":130},{"$f":"地市名称!A104","v":0},{"$f":"地市名称!D104","v":0},{"$f":"地市名称!E104","v":0},{"$f":"地市名称!A105","v":0},{"$f":"地市名称!D105","v":0},{"$f":"地市名称!E105","v":0},{"$f":"地市名称!A106","v":0},{"$f":"地市名称!D106","v":0},{"$f":"地市名称!E106","v":0},{"$f":"地市名称!A107","v":0},{"$f":"地市名称!D107","v":0},{"$f":"地市名称!E107","v":0},{"$f":"地市名称!A108","v":0},{"$f":"地市名称!D108","v":0},{"$f":"地市名称!E108","v":0},{"$f":"地市名称!A109","v":0},{"$f":"地市名称!D109","v":0},{"$f":"地市名称!E109","v":0},{"$f":"地市名称!A110","v":0},{"$f":"地市名称!D110","v":0},{"$f":"地市名称!E110","v":0},{"$f":"地市名称!A111","v":0},{"$f":"地市名称!D111","v":0},{"$f":"地市名称!E111","v":0},{"$f":"地市名称!A112","v":0},{"$f":"地市名称!D112","v":0},{"$f":"地市名称!E112","v":0},{"$f":"地市名称!A113","v":0},{"$f":"地市名称!D113","v":0},{"$f":"地市名称!D113","v":0},{"$f":"地市名称!A114","v":0},{"$f":"地市名称!D114","v":0},{"$f":"地市名称!D114","v":0},{"$f":"地市名称!A115","v":0},{"$f":"地市名称!D115","v":0},{"$f":"地市名称!E115","v":0},{"$f":"地市名称!A116","v":0},{"$f":"地市名称!D116","v":0},{"$f":"地市名称!E116","v":0},{"$f":"地市名称!#REF!","v":{"$error":"#REF!"}},{"$f":"地市名称!#REF!","v":{"$error":"#REF!"}},{"$f":"地市名称!#REF!","v":{"$error":"#REF!"}},{"$f":"地市名称!#REF!","v":{"$error":"#REF!"}},{"$f":"地市名称!#REF!","v":{"$error":"#REF!"}},{"$f":"地市名称!#REF!","v":{"$error":"#REF!"}},{"$f":"地市名称!C123","v":1408},{"$f":"地市名称!C124","v":1260},{"$f":"地市名称!C125","v":513},{"$f":"地市名称!C126","v":691},{"$f":"地市名称!C127","v":56},{"$f":"地市名称!C128","v":803},{"$f":"地市名称!C129","v":2214},{"$f":"地市名称!C130","v":12},{"$f":"地市名称!C137","v":"--"},{"$f":"地市名称!E137","v":3275},{"$f":"地市名称!C138","v":"--"},{"$f":"地市名称!E138","v":2422},{"$f":"地市名称!C139","v":"--"},{"$f":"地市名称!C148","v":2591},{"$f":"地市名称!E148","v":2293},{"$f":"地市名称!C149","v":1995},{"$f":"地市名称!E149","v":1592},{"$f":"地市名称!C150","v":1297},{"$f":"地市名称!E150","v":1024},{"$f":"地市名称!C151","v":953},{"$f":"地市名称!E151","v":788},{"$f":"地市名称!C152","v":557},{"$f":"地市名称!C159","v":1577},{"$f":"地市名称!E159","v":1470},{"$f":"地市名称!C160","v":2424},{"$f":"地市名称!E160","v":1974},{"$f":"地市名称!E161","v":1153},{"$f":"地市名称!E161","v":1153},{"$f":"地市名称!C162","v":2108},{"$f":"地市名称!E162","v":1879},{"$f":"地市名称!C163","v":492},{"$f":"地市名称!E163","v":373},{"$f":"地市名称!C164","v":3},{"$f":"地市名称!E164","v":1},{"$f":"地市名称!C165","v":789},{"$f":"地市名称!C172","v":516},{"$f":"地市名称!E172","v":358},{"$f":"地市名称!C173","v":294},{"$f":"地市名称!E173","v":166},{"$f":"地市名称!C174","v":6},{"$f":"地市名称!E174","v":4},{"$f":"地市名称!C175","v":4},{"$f":"地市名称!E175","v":1},{"$f":"地市名称!C176","v":5},{"$f":"地市名称!E176","v":2},{"$f":"地市名称!C177","v":521},{"$f":"地市名称!E177","v":362},{"$f":"地市名称!C178","v":14},{"$f":"地市名称!E178","v":9},{"$f":"地市名称!C179","v":3},{"$f":"地市名称!E179","v":1},{"$f":"地市名称!E180","v":4794},{"$f":"地市名称!C181","v":6030}]