{"text_format":"3","workbook":"xlsx","n_sheets":13,"sheets":["供求总体人数","按产业分组的需求人数","按行业分组的需求人数","按用人单位性质划分的需求人数","按职业分组的供求人数","需求大于求职缺口最大的前二十个职业情况","需求小于求职缺口最大的前二十个职业情况","按求职人员类别分组的求职人数","按性别分组的供求人数","按年龄分组的供求人数","按文化程度分组的供求人数","按技术等级分组的供求人数","版本"],"not_rendered":{"comments":6},"read":"whole","date_system":"1900"}

{"sheet":"供求总体人数","index":0,"n_rows":5,"n_cols":5,"rows_kept":5,"merged":[[0,0,0,4],[1,0,2,1]]}
["阳江市公共就业服务机构市场职业供求状况分析  \n \n                                                 \n\n\n                                                 2025年二季度\n\n填报单位：阳江市人力资源和社会保障局\n          \n                                表一：供求总体人数"]
[null,"K6PTE5PB[B2]","需求人数","求职人数","求人倍率"]
["K6PTE5PB[A3]","K6PTE5PB[B3]","人","人","倍"]
["甲","序号",1,"2","3"]
["本期有效数","1",{"$f":"按产业分组的需求人数!C8","v":{"v":9642,"d":"9,642"}},{"$f":"按职业分组的供求人数!E14","v":{"v":8928,"d":"8,928"}},{"$f":"ROUND(C5/D5,2)","v":1.08}]

{"sheet":"按产业分组的需求人数","index":1,"n_rows":8,"n_cols":4,"rows_kept":8,"merged":[[0,0,0,3],[1,0,2,1]]}
["续表一：按产业分组的需求人数"]
[null,null,"需求人数","所占比重"]
[null,null,"人","%"]
["甲","序号",4,5]
["第一产业",3,{"$f":"按行业分组的需求人数!C5-按行业分组的需求人数!C6","v":2},{"$f":"ROUND(C5*100/C8,2)","v":0.02}]
["第二产业",4,{"$f":"按行业分组的需求人数!C7-按行业分组的需求人数!C8+按行业分组的需求人数!C9-按行业分组的需求人数!C10+按行业分组的需求人数!C11+按行业分组的需求人数!C12","v":{"v":4673,"d":"4,673"}},{"$f":"ROUND(C6*100/C8,2)","v":48.47}]
["第三产业",5,{"$f":"按行业分组的需求人数!C6+按行业分组的需求人数!C8+按行业分组的需求人数!C10+SUM(按行业分组的需求人数!C13:C27)","v":{"v":4967,"d":"4,967"}},{"$f":"ROUND(C7*100/C8,2)","v":51.51}]
["合计",null,{"$f":"C5+C6+C7","v":{"v":9642,"d":"9,642"}},{"$f":"ROUND(C8*100/C8,0)","v":100}]

{"sheet":"按行业分组的需求人数","index":2,"n_rows":28,"n_cols":4,"rows_kept":28,"merged":[[0,0,0,3],[1,0,2,1]]}
["续表二：按行业分组的需求人数"]
[null,null,"需求人数","所占比重"]
[null,null,"人","%"]
["甲","序号",6,7]
["农、林、牧、渔业",7,3,{"$f":"ROUND(C5*100/$C$28,2)","v":0.03}]
["    其中，农、林、牧、渔专业及辅助性活动",8,1,0.01]
["采矿业",9,0,{"v":0,"d":"0.00"}]
["    其中，开采专业及辅助性活动",10,0,{"v":0,"d":"0.00"}]
["制造业",11,{"v":6343,"d":"6,343"},65.79]
["    其中，金属制品、机械和设备修理业",12,{"v":1928,"d":"1,928"},{"v":20,"d":"20.00"}]
["电力、热力、燃气及水生产和供应业",13,173,1.79]
["建筑业",14,85,0.88]
["批发和零售业",15,247,2.56]
["交通运输、仓储和邮政业",16,93,0.96]
["住宿和餐饮业",17,{"v":1342,"d":"1,342"},13.92]
["信息传输、软件和信息技术服务业",18,607,{"v":6.3,"d":"6.30"}]
["金融业",19,62,0.64]
["房地产业",20,314,3.26]
["租赁和商务服务业",21,66,0.68]
["科学研究和技术服务业",22,0,{"v":0,"d":"0.00"}]
["水利、环境和公共设施管理业",23,0,{"v":0,"d":"0.00"}]
["居民服务、修理和其他服务业",24,166,1.72]
["教育",25,78,0.81]
["卫生和社会工作",26,0,{"v":0,"d":"0.00"}]
["文化、体育和娱乐业",27,63,0.65]
["公共管理、社会保障和社会组织",28,0,{"v":0,"d":"0.00"}]
["国际组织",29,0,{"v":0,"d":"0.00"}]
["合计",null,{"$f":"C5+C7+C9+C11+C12+C13+C14+C15+C16+C17+C18+C19+C20+C21+C22+C23+C24+C25+C26+C27","v":{"v":9642,"d":"9,642"}},{"$f":"ROUND(C28/C28*100,0)","v":100}]

{"sheet":"按用人单位性质划分的需求人数","index":3,"n_rows":21,"n_cols":4,"rows_kept":21,"merged":[[0,0,0,3],[1,0,2,1]]}
["续表三：按用人单位性质划分的需求人数",null,null,"用人单位需求情况"]
[null,null,"需求人数","所占比重"]
[null,null,"人","%"]
["甲","序号",8,9]
["企  业",31,{"$f":"C6+C15+C16+C17","v":{"v":9642,"d":"9,642"}},{"$f":"ROUND(C5*100/$C$21,2)","v":{"v":100,"d":"100.00"}}]
["    其中： 内资企业",32,{"$f":"C7+C8+C9+C10+C11+C12+C13+C14","v":{"v":6649,"d":"6,649"}},{"$f":"ROUND(C6*100/$C$5,2)","v":68.96}]
["         国有企业",33,20,0.21]
["         集体企业",34,0,{"v":0,"d":"0.00"}]
["         股份合作企业",35,25,0.26]
["         联营企业",36,13,0.13]
["         有限责任公司",37,{"v":4275,"d":"4,275"},44.34]
["         股份有限公司",38,784,8.13]
["         私营企业",39,{"v":1497,"d":"1,497"},15.53]
["         其他企业",40,35,0.36]
["     港、澳、台商投资企业",41,143,1.48]
["    外商投资企业",42,39,{"v":0.4,"d":"0.40"}]
["    个体经营",43,{"v":2811,"d":"2,811"},29.15]
["事  业",44,0,{"$f":"ROUND(C18*100/$C$21,2)","v":{"v":0,"d":"0.00"}}]
["机  关",45,0,{"$f":"ROUND(C19*100/$C$21,2)","v":{"v":0,"d":"0.00"}}]
["其  他",46,0,{"$f":"ROUND(C20*100/$C$21,2)","v":{"v":0,"d":"0.00"}}]
["合计",null,{"$f":"C5+C18+C19+C20","v":{"v":9642,"d":"9,642"}},{"$f":"ROUND(C21*100/$C$21,0)","v":100}]

{"sheet":"按职业分组的供求人数","index":4,"n_rows":14,"n_cols":7,"rows_kept":14,"merged":[[0,0,0,6],[1,0,3,1],[1,2,1,6]]}
["续表四：按职业分组的供求人数"]
[null,null,"劳动力供求人数比较"]
[null,null,"需求人数","需求比重","求职人数","求职比重","求人倍率"]
[null,null,"人","%","人","%","倍"]
["甲","序号",10,11,12,13,14]
["单位负责人",48,21,{"$f":"ROUND(C6*100/C14,2)","v":0.22},25,{"$f":"ROUND(E6*100/E14,2)","v":0.28},{"$f":"IFERROR(ROUND(C6/(E6+$E$13*C6/$C$14),2),\"-\")","v":0.84}]
["专业技术人员",49,865,{"$f":"ROUND(C7*100/C14,2)","v":8.97},913,{"$f":"ROUND(E7*100/E14,2)","v":10.23},0.95]
["办事人员和有关人员",50,{"v":2385,"d":"2,385"},{"$f":"ROUND(C8*100/C14,2)","v":24.74},{"v":2773,"d":"2,773"},{"$f":"ROUND(E8*100/E14,2)","v":31.06},0.86]
["社会生产服务和生活服务人员",51,{"v":2284,"d":"2,284"},{"$f":"ROUND(C9*100/C14,2)","v":23.69},{"v":2072,"d":"2,072"},{"$f":"ROUND(E9*100/E14,2)","v":23.21},{"v":1.1,"d":"1.10"}]
["农林牧渔业生产及辅助人员",52,2,{"$f":"ROUND(C10*100/C14,2)","v":0.02},4,{"$f":"ROUND(E10*100/E14,2)","v":0.04},{"v":0.5,"d":"0.50"}]
["生产制造及有关人员",53,{"v":2188,"d":"2,188"},{"$f":"ROUND(C11*100/C14,2)","v":22.69},{"v":1798,"d":"1,798"},{"$f":"ROUND(E11*100/E14,2)","v":20.14},1.22]
["其他",54,{"v":1897,"d":"1,897"},{"$f":"ROUND(C12*100/C14,2)","v":19.67},{"v":1343,"d":"1,343"},{"$f":"ROUND(E12*100/E14,2)","v":15.04},1.41]
["无要求",55,"——","——",0,{"$f":"ROUND(E13*100/$E$14,2)","v":{"v":0,"d":"0.00"}},"——"]
["合计",null,{"$f":"C6+C7+C8+C9+C10+C11+C12","v":{"v":9642,"d":"9,642"}},{"$f":"ROUND(C14*100/C14,0)","v":100},{"$f":"E6+E7+E8+E9+E10+E11+E12+E13","v":{"v":8928,"d":"8,928"}},{"$f":"ROUND(E14*100/$E$14,0)","v":100},"——"]

{"sheet":"需求大于求职缺口最大的前二十个职业情况","index":5,"n_rows":24,"n_cols":7,"rows_kept":24,"merged":[[0,0,0,6],[1,0,2,0],[1,1,2,1],[1,2,2,2],[1,3,1,6]]}
["续表五：需求大于求职缺口最大的前二十个职业情况(职业细类)"]
["项  目","代码","职业代码","需求大于求职缺口最大的前二十个职业（职业细类）"]
[{"$nulls":3},"需求人数","求职人数","缺口数","求人倍率"]
["甲","乙","15","16","17","18","19"]
["家政服务员",56,"4-10-01-06",112,54,{"$f":"D5-E5","v":58},{"$f":"IFERROR(ROUND(D5/E5,2),\"-\")","v":2.07}]
["快递员",57,"4-02-07-08",214,175,{"$f":"D6-E6","v":39},1.22]
["餐厅服务员",58,"4-03-02-05",261,221,40,1.18]
["中式烹调师",59,"4-03-02-01",7,3,4,2.33]
["企业经理",60,"1-06-01-02",3,1,2,{"v":3,"d":"3.00"}]
["前厅服务员",61,"4-03-01-01",2,1,1,{"v":2,"d":"2.00"}]
["电工",62,"6-31-01-03",2,1,1,{"v":2,"d":"2.00"}]
["物业管理师",63,"4-06-01-01",4,3,1,1.33]
["营销员",64,"4-01-02-01",{"v":1030,"d":"1,030"},355,675,{"v":2.9,"d":"2.90"}]
["保安员",65,"4-07-05-01",9,3,6,{"v":3,"d":"3.00"}]
[null,66,{"$nulls":3},0,"-"]
[null,67,{"$nulls":3},0,"-"]
[null,68,{"$nulls":3},0,"-"]
[null,69,{"$nulls":3},0,"-"]
[null,70,{"$nulls":3},0,{"$f":"IFERROR(ROUND(D19/E19,2),\"-\")","v":"-"}]
[null,71,{"$nulls":3},0,"-"]
[null,72,{"$nulls":3},0,"-"]
[null,73,{"$nulls":3},0,"-"]
[null,74,{"$nulls":3},0,"-"]
[null,75,{"$nulls":3},0,"-"]

{"sheet":"需求小于求职缺口最大的前二十个职业情况","index":6,"n_rows":24,"n_cols":7,"rows_kept":24,"merged":[[0,0,0,6],[1,0,2,0],[1,1,2,1],[1,2,2,2],[1,3,1,6]]}
["续表六：需求小于求职缺口最大的前二十个职业（职业细类）"]
["项  目","代码","职业代码","需求小于求职缺口最大的前二十个职业（职业细类）"]
[{"$nulls":3},"需求人数","求职人数","缺口数","求人倍率"]
["甲","乙","20","21","22","23","24"]
["包装工",76,"6-31-05-00",161,358,{"$f":"E5-D5","v":197},{"$f":"IFERROR(ROUND(D5/E5,2),\"-\")","v":0.45}]
["保洁员",77,"4-09-08-01",401,635,{"$f":"E6-D6","v":234},0.63]
["机电设备维修工",78,"6-31-01-10",2,4,2,{"v":0.5,"d":"0.50"}]
["会计专业人员",79,"2-06-03-00",3,5,2,{"v":0.6,"d":"0.60"}]
["幼儿园教师",80,"2-08-03-00",0,2,2,{"v":0,"d":"0.00"}]
["收银员",81,"4-01-02-04",36,99,63,0.36]
["全媒体运营师",82,"4-13-01-05",2,4,2,{"v":0.5,"d":"0.50"}]
["美发师",83,"4-10-03-02",2,5,3,{"v":0.4,"d":"0.40"}]
["水泥生产工",84,"6-15-01-01",3,5,2,{"v":0.6,"d":"0.60"}]
["小学教师",85,"2-08-02-04",3,5,2,{"v":0.6,"d":"0.60"}]
["行政执法员",86,"3-01-03-01",3,5,2,{"v":0.6,"d":"0.60"}]
["保安员",87,"4-07-05-01",104,742,638,0.14]
["房地产经纪人",88,"4-06-02-01",78,182,104,0.43]
[null,89,{"$nulls":3},0,"-"]
[null,90,{"$nulls":3},0,"-"]
[null,91,{"$nulls":3},0,"-"]
[null,92,{"$nulls":3},0,"-"]
[null,93,{"$nulls":3},0,"-"]
[null,94,{"$nulls":3},0,"-"]
[null,95,{"$nulls":3},0,"-"]

{"sheet":"按求职人员类别分组的求职人数","index":7,"n_rows":13,"n_cols":4,"rows_kept":13,"merged":[[0,0,0,3],[1,0,2,1]]}
["续表七：按求职人员类别分组的求职人数"]
[null,null,"求职人数","求职比重（%）"]
[null,null,"人","%"]
["甲","序号",25,26]
["新成长失业青年",97,{"v":1420,"d":"1,420"},{"$f":"IFERROR(ROUND(C5*100/$C$13,2),\"-\")","v":15.91}]
["    其中：应届高校毕业生",98,257,{"$f":"IFERROR(ROUND(C6*100/$C$5,2),\"-\")","v":{"v":18.1,"d":"18.10"}}]
["失业人员",99,804,9.01]
["在业人员",100,{"v":1083,"d":"1,083"},{"$f":"IFERROR(ROUND(C8*100/C13,2),\"-\")","v":12.13}]
["退休人员",101,89,{"$f":"IFERROR(ROUND(C9*100/C13,2),\"-\")","v":{"v":1,"d":"1.00"}}]
["在学人员",102,{"v":1259,"d":"1,259"},{"$f":"IFERROR(ROUND(C10*100/C13,2),\"-\")","v":{"v":14.1,"d":"14.10"}}]
["本市农村求职人员",103,{"v":4253,"d":"4,253"},{"$f":"IFERROR(ROUND(C11*100/C13,2),\"-\")","v":47.64}]
["外地户籍求职人员",104,20,{"$f":"IFERROR(ROUND(C12*100/$C$13,2),\"-\")","v":0.22}]
["合计",null,{"$f":"C5+C7+C8+C9+C10+C11+C12","v":{"v":8928,"d":"8,928"}},{"$f":"IFERROR(ROUND(C13*100/$C$13,2),\"-\")","v":100}]

{"sheet":"按性别分组的供求人数","index":8,"n_rows":8,"n_cols":4,"rows_kept":8,"merged":[[0,0,0,3],[1,0,3,1],[1,2,1,3]]}
["续表八：按性别分组的供求人数"]
[null,null,"劳动力供求人数比较"]
[null,null,"求职人数","求职比重"]
[null,null,"人","%"]
["甲","序号",29,30]
["男",106,{"v":5133,"d":"5,133"},{"$f":"IFERROR(ROUND(C6*100/$C$8,2),\"-\")","v":57.49}]
["女",107,{"v":3795,"d":"3,795"},42.51]
["合计",null,{"$f":"C6+C7","v":{"v":8928,"d":"8,928"}},{"v":100,"d":"100.00"}]

{"sheet":"按年龄分组的供求人数","index":9,"n_rows":11,"n_cols":7,"rows_kept":11,"merged":[[0,0,0,6],[1,0,3,1],[1,2,1,6]]}
["续表九：按年龄分组的供求人数"]
[null,null,"劳动力供求人数比较"]
[null,null,"需求人数","需求比重","求职人数","求职比重","求人倍率"]
[null,null,"人","%","人","%","倍"]
["甲","序号",32,33,34,35,36]
["16-24岁",110,{"v":2988,"d":"2,988"},{"$f":"IFERROR(ROUND(C6*100/$C$11,2),\"-\")","v":30.99},{"v":3594,"d":"3,594"},{"$f":"IFERROR(ROUND(E6*100/$E$11,2),\"-\")","v":40.26},{"$f":"IFERROR(ROUND((C6+$C$10*E6/E11)/E6,2),\"-\")","v":{"v":1,"d":"1.00"}}]
["25-34岁",111,{"v":2602,"d":"2,602"},26.99,{"v":2496,"d":"2,496"},27.96,{"$f":"IFERROR(ROUND((C7+C10*F7/100)/E7,2),\"-\")","v":1.21}]
["35-44岁",112,{"v":1562,"d":"1,562"},{"v":16.2,"d":"16.20"},{"v":1606,"d":"1,606"},17.99,{"$f":"IFERROR(ROUND((C8+C10*F8/100)/E8,2),\"-\")","v":1.14}]
["45岁以上",113,983,10.19,{"v":1232,"d":"1,232"},{"v":13.8,"d":"13.80"},{"$f":"IFERROR(ROUND((C9+C10*F9/100)/E9,2),\"-\")","v":0.97}]
["无要求",114,{"v":1507,"d":"1,507"},15.63,"——","——","——"]
["合计",null,{"$f":"C6+C7+C8+C9+C10","v":{"v":9642,"d":"9,642"}},100,{"$f":"E6+E7+E8+E9","v":{"v":8928,"d":"8,928"}},100,{"$f":"IFERROR(ROUND(C11/E11,2),\"-\")","v":1.08}]

{"sheet":"按文化程度分组的供求人数","index":10,"n_rows":13,"n_cols":7,"rows_kept":13,"merged":[[0,0,0,6],[1,0,3,1],[1,2,1,6]]}
["续表十:按文化程度分组的供求人数"]
[null,null,"劳动力供求人数比较"]
[null,null,"需求人数","需求比重","求职人数","求职比重","求人倍率"]
[null,null,"人","%","人","%","倍"]
["甲","序号",37,38,39,40,41]
["初中及以下",116,{"v":2055,"d":"2,055"},{"$f":"IFERROR(ROUND(C6*100/$C$13,2),\"-\")","v":21.31},{"v":2305,"d":"2,305"},{"$f":"IFERROR(ROUND(E6*100/$E$13,2),\"-\")","v":25.82},{"$f":"IFERROR(ROUND((C6+$C$12*E6/$E$13)/E6,2),\"-\")","v":1.01}]
["高中",117,{"v":3157,"d":"3,157"},32.74,{"v":3092,"d":"3,092"},34.63,1.14]
["    其中：职高、技校、中专",118,{"v":1157,"d":"1,157"},{"$f":"IFERROR(ROUND(C8*100/$C$7,2),\"-\")","v":36.65},{"v":1161,"d":"1,161"},{"$f":"IFERROR(ROUND(E8*100/$E$7,2),\"-\")","v":37.55},{"$f":"IFERROR(ROUND((C12*E7/E13+C7)*C8/C7/E8,2),\"-\")","v":1.11}]
["大专",119,{"v":2751,"d":"2,751"},28.53,{"v":2945,"d":"2,945"},32.99,1.05]
["大学",120,644,6.68,583,6.53,1.22]
["硕士以上",121,5,0.05,3,0.03,1.78]
["无要求",122,{"v":1030,"d":"1,030"},10.68,"——","——","——"]
["合计",null,{"$f":"C6+C7+C9+C10+C11+C12","v":{"v":9642,"d":"9,642"}},{"$f":"(SUM(C6:C12)-C8)/C13*100","v":100},{"$f":"E6+E7+E9+E10+E11","v":{"v":8928,"d":"8,928"}},{"$f":"(SUM(E6:E12)-E8)/E13*100","v":100},"——"]

{"sheet":"按技术等级分组的供求人数","index":11,"n_rows":16,"n_cols":7,"rows_kept":16,"merged":[[0,0,0,6],[1,0,3,1],[1,2,1,6]]}
["续表十一：按技术等级分组的供求人数"]
[null,null,"劳动力供求人数比较"]
[null,null,"需求人数","需求比重","求职人数","求职比重","求人倍率"]
[null,null,"人","%","人","%","倍"]
["甲","序号",42,43,44,45,46]
["职业资格五级(初级技能)",124,674,{"$f":"IFERROR(ROUND(C6*100/C16,2),\"-\")","v":6.99},562,{"$f":"IFERROR(ROUND(E6*100/E16,2),\"-\")","v":6.29},{"$f":"IFERROR((C6+$C$15*E6/$E$16)/E6,\"-\")","v":{"v":2.07966460031378,"d":"2.08"}}]
["职业资格四级(中级技能)",125,384,{"$f":"IFERROR(ROUND(C7*100/C16,2),\"-\")","v":3.98},261,{"$f":"IFERROR(ROUND(E7*100/E16,2),\"-\")","v":2.92},{"v":2.35164071190211,"d":"2.35"}]
["职业资格三级(高级技能)",126,9,{"$f":"IFERROR(ROUND(C8*100/C16,2),\"-\")","v":0.09},6,{"$f":"IFERROR(ROUND(E8*100/E16,2),\"-\")","v":0.07},{"v":2.38037634408602,"d":"2.38"}]
["职业资格二级(技师)",127,5,{"$f":"IFERROR(ROUND(C9*100/C16,2),\"-\")","v":0.05},2,{"$f":"IFERROR(ROUND(E9*100/E16,2),\"-\")","v":0.02},{"v":3.38037634408602,"d":"3.38"}]
["职业资格一级(高级技师)",128,8,{"$f":"IFERROR(ROUND(C10*100/C16,2),\"-\")","v":0.08},4,{"$f":"IFERROR(ROUND(E10*100/E16,2),\"-\")","v":0.04},{"v":2.88037634408602,"d":"2.88"}]
["初级职称",129,680,{"$f":"IFERROR(ROUND(C11*100/C16,2),\"-\")","v":7.05},569,{"$f":"IFERROR(ROUND(E11*100/E16,2),\"-\")","v":6.37},{"v":2.07545543020201,"d":"2.08"}]
["中级职称",130,18,{"$f":"IFERROR(ROUND(C12*100/C16,2),\"-\")","v":0.19},14,{"$f":"IFERROR(ROUND(E12*100/E16,2),\"-\")","v":0.16},{"v":2.16609062980031,"d":"2.17"}]
["高级职称",131,4,{"$f":"IFERROR(ROUND(C13*100/C16,2),\"-\")","v":0.04},2,{"$f":"IFERROR(ROUND(E13*100/E16,2),\"-\")","v":0.02},{"v":2.88037634408602,"d":"2.88"}]
["无技术等级或职称",132,"——","——",{"v":7508,"d":"7,508"},{"$f":"IFERROR(ROUND(E14*100/E16,2),\"-\")","v":84.09},{"$f":"IFERROR(($C$15*E14/$E$16)/E14,\"-\")","v":{"v":0.880376344086022,"d":"0.88"}}]
["无要求",133,{"v":7860,"d":"7,860"},{"$f":"IFERROR(ROUND(C15*100/$C$16,2),\"-\")","v":81.52},"——","——","——"]
["合计",null,{"$f":"C6+C7+C8+C9+C10+C11+C12+C13+C15","v":{"v":9642,"d":"9,642"}},{"$f":"ROUND(C16*100/$C$16,2)","v":100},{"$f":"E6+E7+E8+E9+E10+E11+E12+E13+E14","v":{"v":8928,"d":"8,928"}},{"$f":"ROUND(E16*100/E16,2)","v":100},"——"]

{"sheet":"版本","index":12,"n_rows":1,"n_cols":1,"rows_kept":1,"hidden":true}
["V1.1"]